BEGIN:VCALENDAR
VERSION:2.0
PRODID:-// - ECPv5.14.0.4//NONSGML v1.0//EN
CALSCALE:GREGORIAN
METHOD:PUBLISH
X-ORIGINAL-URL:https://www.grenoble-rando-universite.fr
X-WR-CALDESC:évènements pour 
BEGIN:VTIMEZONE
TZID:Europe/Paris
BEGIN:DAYLIGHT
TZOFFSETFROM:+0100
TZOFFSETTO:+0200
TZNAME:CEST
DTSTART:20210328T010000
END:DAYLIGHT
BEGIN:STANDARD
TZOFFSETFROM:+0200
TZOFFSETTO:+0100
TZNAME:CET
DTSTART:20211031T010000
END:STANDARD
END:VTIMEZONE
BEGIN:VEVENT
DTSTART;VALUE=DATE:20210124
DTEND;VALUE=DATE:20210125
DTSTAMP:20260425T174100
CREATED:20201027T141234Z
LAST-MODIFIED:20210119T085416Z
UID:5647-1611446400-1611532799@www.grenoble-rando-universite.fr
SUMMARY:(COMPLET) 24/01 Rando découverte raquettes au Charmant Som
DESCRIPTION:Pour découvrir ou redécouvrir la randonnée en raquettes à neige\, je propose d’aller au Charmant Som qui est pour moi le sommet idéal. Situé dans le massif de la Chartreuse\, culminant à 1867 mètres\, il offre un magnifique panorama sur la Chartreuse et les massifs autour. Avec un dénivelé total de 540 mètres positifs et négatifs\, la randonnée que je propose est d’un niveau facile et permet tout de même de produire un effort physique digne de ce nom. Nous prendrons le temps de contempler les paysages et d’en savoir plus sur la flore qui nous entoure. Il n’y a aucun passage technique ni vertigineux. \nProgramme : trajet aller-retour en bus\, randonnée raquettes en boucle depuis le Col de Porte\, pique-nique le midi \nNombre d’inscrits maximum : 5 ou 11 (selon le nbre d’encadrants)\nLa sortie est désormais COMPLETE (plus de places) \nCoût : 10 euros (5 si le participant a tout son matériel) + un ticket de bus aller-retour du réseau TAG (transport en commun de Grenoble). \nRDV : 7h50 à l’arrêt de bus Notre-Dame Musée à Grenoble\, trajet en bus (n°62). Retour prévu à Grenoble avant le couvre-feu. \nMatériel à prévoir : chaussures de randonnée\, vêtements chauds (première et deuxième couche)\, coupe-vent (indispensable)\, 1\,5 L d’eau (dont une partie en boissons chaudes est préférable !)\, bonnet\, gants\, écharpe ou tour de cou\, lunettes de soleil\, pique-nique du midi\, en-cas à grignoter\, téléphone portable chargé\, une pièce d’identité\, sac-à-dos\, masque (pour le transport)\n+ Raquettes à neige\, DVA/pelle/sonde si vous avez \nOptionnel : guêtres\, crème solaire\, bâtons de randonnée \nUne permanence aura lieu le jeudi 21 janvier à partir de 17h30 au local pour fournir le matériel à fournir si besoin. Les participants recevront par email une attestation leur permettant de justifier un déplacement après le couvre-feu lors de la remise du matériel et de la randonnée\, pour éviter tout risque d’amende en cas de dépassement d’horaire. Infos sur le lieu et accès : grenoble-rando-universite.fr/contact/ \nAnaïs\, encadrante bénévole pour l’activité raquettes à neige & accompagnatrice en montagne stagiaire
URL:https://www.grenoble-rando-universite.fr/event/24-rando-raquettes-au-charmant-som/
LOCATION:chartreuse
CATEGORIES:Rando Raquettes
ATTACH;FMTTYPE=image/jpeg:https://www.grenoble-rando-universite.fr/wp-content/uploads/2020/10/Charmant-Som_2018-21-reduit.jpg
ORGANIZER;CN="Ana%C3%AFs%20accompagnatrice%20en%20montagne":MAILTO:anais.legras@protonmail.com
END:VEVENT
END:VCALENDAR