BEGIN:VCALENDAR
VERSION:2.0
PRODID:-// - ECPv5.14.0.4//NONSGML v1.0//EN
CALSCALE:GREGORIAN
METHOD:PUBLISH
X-ORIGINAL-URL:https://www.grenoble-rando-universite.fr
X-WR-CALDESC:évènements pour 
BEGIN:VTIMEZONE
TZID:Europe/Paris
BEGIN:DAYLIGHT
TZOFFSETFROM:+0100
TZOFFSETTO:+0200
TZNAME:CEST
DTSTART:20220327T010000
END:DAYLIGHT
BEGIN:STANDARD
TZOFFSETFROM:+0200
TZOFFSETTO:+0100
TZNAME:CET
DTSTART:20221030T010000
END:STANDARD
END:VTIMEZONE
BEGIN:VEVENT
DTSTART;TZID=Europe/Paris:20220612T080000
DTEND;TZID=Europe/Paris:20220703T170000
DTSTAMP:20260422T123453
CREATED:20220603T094041Z
LAST-MODIFIED:20220603T094415Z
UID:8861-1655020800-1656867600@www.grenoble-rando-universite.fr
SUMMARY:Bus Montagne Alpes Là ! Tous les dimanches
DESCRIPTION:Dans le cadre du mois de la montagne sans voiture et en lien avec l’exposition “La montagne accessible sans voiture” prévue à la Maison de la Montagne / Office du Tourisme\, notre association met en place chaque dimanche du 12 juin au 3 juillet un bus à destination d’un massif autour de Grenoble.Le Club Grenoble Rando Université organisera sur chaque dimanche une randonnée avec le bus prévu. Il est aussi possible de réserver juste le bus et d’y aller en dehors de la sortie organisée. \n\n\n\nDimanche 12 juin : le Col du Coq dans le Parc Naturel Régional de Chartreuse – Inscription ouverte ! Pour se rafraichir et se restaurer : l’Estive du Haut juste avant le Col du Coq \n\n\n\nDimanche 19 juin : Gresse en Vercors dans le Parc Naturel Régional du Vercors Pour se rafraichir et se restaurer : bar Le Laupet à Gresse en Vercors \n\n\n\nDimanche 26 juin : l’Alpe du Grand Serre – Massif du Taillefer Pour se rafraichir et se restaurer : Ma Chaumière\, L’Eterlou Branché\, Chez Noute\, Les Mélèzes \n\n\n\nDimanche 3 Juillet : le Lac de Freydières – Massif de Belledonne Pour se rafraichir et se restaurer : Auberge de la Gélinotte et le festival Belledonne en Cirque Le festival Belledonne en cirque revient les 2 et 3 juillet au bord du Lac de Freydières pour un week-end de spectacles\, d’animations et d’initiations aux arts du cirque. Venez y passer la journée ou combiner balades depuis le lac et animations du festival ! \nTarif normal : 10€ / Tarif réduit pour les adhérents du club : 5€ avec le code promo reçu par mail \nPour réserver ton billet (avant le jeudi soir) :bus-montagne-alpes-la.rando-sans-voiture.fr\n 
URL:https://www.grenoble-rando-universite.fr/event/bus-montagne-alpes-la-tous-les-dimanches/
CATEGORIES:Evènement
ATTACH;FMTTYPE=image/png:https://www.grenoble-rando-universite.fr/wp-content/uploads/2022/06/bus-rando.png
END:VEVENT
END:VCALENDAR