BEGIN:VCALENDAR
VERSION:2.0
PRODID:-// - ECPv5.14.0.4//NONSGML v1.0//EN
CALSCALE:GREGORIAN
METHOD:PUBLISH
X-ORIGINAL-URL:https://www.grenoble-rando-universite.fr
X-WR-CALDESC:évènements pour 
BEGIN:VTIMEZONE
TZID:UTC
BEGIN:STANDARD
TZOFFSETFROM:+0000
TZOFFSETTO:+0000
TZNAME:UTC
DTSTART:20260101T000000
END:STANDARD
END:VTIMEZONE
BEGIN:VEVENT
DTSTART;TZID=UTC:20260315T080000
DTEND;TZID=UTC:20260315T170000
DTSTAMP:20260422T123508
CREATED:20260305T104121Z
LAST-MODIFIED:20260305T105834Z
UID:16071-1773561600-1773594000@www.grenoble-rando-universite.fr
SUMMARY:Dimanche 15/03 Journée bricolage bichonnage de cabane à Grenoble !
DESCRIPTION:Journée ouverte à tout.e.s\, adhérents ou non du club \nDes bénévoles du club rando et de l’association “Tous à Poêle” vous proposent une journée bricolage pour préparer le bichonnage d’une cabane au-dessus de Grenoble. \nAu programme\, réalisation de petits meubles (garde-manger\, banc\, table\, …)\, pancartes\, livre d’or… et autre bricolage utile à amener dans la cabane. (certains meubles comme le banc seront pré-découpés puis assemblés à la cabane pour faciliter leur transport) \nPas besoin de compétence de bricolage\, nous aurons des outils et des matériaux de récupération\, et on apprendra ensemble si besoin 🙂 \nRDV au local du Collectif Voisin à partir de 10h. \nRepas du midi offert\, prévu par le club. \nEnvie de participer ? inscris-toi en commentaire ! \nSuite à cette journée\, un week-end de bichonnage de la cabane sera proposée dans le Vercors le 18-19 avril.\nLes participants à cette journée de préparation seront prioritaires pour y participer. \n 
URL:https://www.grenoble-rando-universite.fr/event/dimanche-15-03-journee-bricolage-bichonnage-de-cabane-a-grenoble/
CATEGORIES:Evènement
ATTACH;FMTTYPE=image/jpeg:https://www.grenoble-rando-universite.fr/wp-content/uploads/2026/03/baraque.jpg
END:VEVENT
END:VCALENDAR