BEGIN:VCALENDAR
VERSION:2.0
PRODID:-// - ECPv5.14.0.4//NONSGML v1.0//EN
CALSCALE:GREGORIAN
METHOD:PUBLISH
X-ORIGINAL-URL:https://www.grenoble-rando-universite.fr
X-WR-CALDESC:évènements pour 
BEGIN:VTIMEZONE
TZID:Europe/Paris
BEGIN:DAYLIGHT
TZOFFSETFROM:+0100
TZOFFSETTO:+0200
TZNAME:CEST
DTSTART:20220327T010000
END:DAYLIGHT
BEGIN:STANDARD
TZOFFSETFROM:+0200
TZOFFSETTO:+0100
TZNAME:CET
DTSTART:20221030T010000
END:STANDARD
END:VTIMEZONE
BEGIN:VEVENT
DTSTART;TZID=Europe/Paris:20221120T080000
DTEND;TZID=Europe/Paris:20221120T180000
DTSTAMP:20260421T173410
CREATED:20221115T181454Z
LAST-MODIFIED:20221116T152632Z
UID:9713-1668931200-1668967200@www.grenoble-rando-universite.fr
SUMMARY:[COMPLET] Dimanche 20 novembre - Rando en traversée au cœur de la Chartreuse par les rochers de Bellefont
DESCRIPTION:Désolé\, le nombre de participant maximum a été atteint et les inscriptions sont closes 🙁 \nCette randonnée sportive nous emmènera au cœur du massif de la Chartreuse\, à la découverte de sentiers escarpés et peu fréquentés\, entre falaises et grottes. Nous traverserons les crêtes des rochers de Bellefont pour redescendre sur le Plateau des Petites Roches. \n  \nDistance : environ 12km | Temps de marche effective : 5h-5h30 \nRandonnée de niveau sportif en raison du dénivelé positif sur une distance courte\, mais montée régulière. Passages légèrement techniques sur une très courte portion de la descente. \nL’itinéraire pourra être modifié en fonction des conditions météorologiques du jour. \n \nAprès un trajet en car d’un peu plus d’une heure\, nous partirons de Saint-Pierre-de-Chartreuse. Nous remonterons un petit vallon pour accéder au pied des pentes de la Chartreuse\, aux sources du Guiers. Nous entamerons notre remontée par un étroit sentier\, véritable musée de sculptures naturelles de roches à ciel ouvert. Il faudra penser à lever la tête 😉 ! Nous arriverons sur les crêtes des rochers de Bellefont\, où la vue s’ouvre sur le massif de Chartreuse d’un côté et sur la vallée du Grésivaudan et le massif de Belledonne de l’autre. La descente se fera sur un sentier qui serpente entre les falaises vers le Plateau des Petites Roches\, où nous reprendrons un car pour revenir à La Tronche. \n  \nNiveau sportif : dénivelé positif de 1000 m environ\, \nAltitude min. : 880 m | Alt. max. : 1860 m \n  \nÉquipement : bonnes chaussures de sport avec semelles qui ne glissent pas\, vêtements chauds et adaptés à la pluie (veste polaire\, coupe-vent\, veste de pluis\, bonnet\, gants\, etc.)\, sac à dos de 15L min. avec 1\,5L d’eau pour la journée\, pique-nique et de quoi grignoter éventuellement. Bâtons de randonnée optionnels mais qui peuvent bien aider à la montée comme à la descente (à emprunter lors de la permanence de prêt de matériel jeudi 17/11 18h-19h au local du club). \n  \nRendez-vous : 8h20 à la gare routière de Grenoble (attention le retour en car se fera à La Tronche – arrêt tram Grand Sablon vers 18h) \nCoût : 5€ pour la participation à l’encadrement de la sortie (à payer directement lors de l’inscription sur HelloAsso) + 7€ pour le trajet aller-retour en car Région (à payer directement à l’encadrant). \n  \nInscriptions jusqu’à jeudi soir via HelloAsso ici : https://www.helloasso.com/associations/alpes-la/evenements/inscription-rando-traversee-chartreuse-dimanche-20-novembre-2022-avec-vincent-cabot \n  \nGroupe limité à 11 participant.e.s \nEncadrement par Vincent Cabot – accompagnateur en montagne \n 
URL:https://www.grenoble-rando-universite.fr/event/dimanche-20-novembre-rando-en-traversee-au-coeur-de-la-chartreuse-par-les-rochers-de-bellefont/
LOCATION:chartreuse
CATEGORIES:Rando à pied
ATTACH;FMTTYPE=image/jpeg:https://www.grenoble-rando-universite.fr/wp-content/uploads/2022/11/IMG_20221111_133620-scaled.jpg
END:VEVENT
END:VCALENDAR