BEGIN:VCALENDAR
VERSION:2.0
PRODID:-// - ECPv5.14.0.4//NONSGML v1.0//EN
CALSCALE:GREGORIAN
METHOD:PUBLISH
X-ORIGINAL-URL:https://www.grenoble-rando-universite.fr
X-WR-CALDESC:évènements pour 
BEGIN:VTIMEZONE
TZID:UTC
BEGIN:STANDARD
TZOFFSETFROM:+0000
TZOFFSETTO:+0000
TZNAME:UTC
DTSTART:20260101T000000
END:STANDARD
END:VTIMEZONE
BEGIN:VEVENT
DTSTART;TZID=UTC:20260426T090000
DTEND;TZID=UTC:20260426T170000
DTSTAMP:20260421T155240
CREATED:20260420T211412Z
LAST-MODIFIED:20260420T214245Z
UID:16196-1777194000-1777222800@www.grenoble-rando-universite.fr
SUMMARY:Dimanche 26 avril - La Pinéa - Chartreuse
DESCRIPTION:Bonjour à toutes et à tous\,\nPour profiter du printemps\, on vous propose d’aller prendre l’air à La Pinéa !\nDirection la Chartreuse\, au départ du Col de Porte. Au programme une boucle principalement en forêt avec pour objectif La Pinéa (1771m)\, sommet duquel nous aurons une vue imprenable sur le reste du massif ^^\nRando sans neige car faible altitude.\n  \nNiveau : intermédiaire\nDénivelé : 590 m\, 8\,5 km en boucle.\nLa dernière montée avant le sommet sera raide\, sans besoin d’escalader non plus\, mais on utilisera probablement les mains.\nMatériel : Classique. Les recommandations sont disponibles juste ici. \n  \nTransport : en covoiturage depuis Grenoble.\nRdv de départ : Parking de la gare routière de Grenoble (celui sous les arbres)\, à 9 h.\nRetour prévu : 17h.\nTarif :\n\n5 € de contribution au fonctionnement du club\n4\,5 € pour le covoiturage\n\n  \nInscription sur HELLOASSO: Lien à venir\nFermeture des inscriptions samedi 25/04 dans la soirée.\n\nN’hésites pas à poser une question en commentaire ci-dessous\,\nA bientôt ! \nValentin et Ludovic\, encadrants bénévoles
URL:https://www.grenoble-rando-universite.fr/event/dimanche-26-avril-la-pinea-chartreuse/
CATEGORIES:Rando à pied
ATTACH;FMTTYPE=image/jpeg:https://www.grenoble-rando-universite.fr/wp-content/uploads/2026/04/La-Pinea.jpg
ORGANIZER;CN="Valentin%20et%20Ludovic":MAILTO:valentin.borel@gmail.com
END:VEVENT
END:VCALENDAR