BEGIN:VCALENDAR
VERSION:2.0
PRODID:-// - ECPv5.14.0.4//NONSGML v1.0//EN
CALSCALE:GREGORIAN
METHOD:PUBLISH
X-ORIGINAL-URL:https://www.grenoble-rando-universite.fr
X-WR-CALDESC:évènements pour 
BEGIN:VTIMEZONE
TZID:UTC
BEGIN:STANDARD
TZOFFSETFROM:+0000
TZOFFSETTO:+0000
TZNAME:UTC
DTSTART:20240101T000000
END:STANDARD
END:VTIMEZONE
BEGIN:VEVENT
DTSTART;TZID=UTC:20240331T090000
DTEND;TZID=UTC:20240331T180000
DTSTAMP:20260422T110008
CREATED:20240325T165735Z
LAST-MODIFIED:20240329T181228Z
UID:12535-1711875600-1711908000@www.grenoble-rando-universite.fr
SUMMARY:[ANNULé] Dimanche 31/03 - Rando vers Chamechaude sommet de la Chartreuse
DESCRIPTION:Bonjour\, \nJe vous emmène dans le massif de la Chartreuse en direction de son sommet\, la célèbre montagne de Chamechaude. Il reste un peu de neige\, c’est pourquoi nous prendrons des crampons de randonnée\, et peut-être DVA/pelle/sonde. Nous profiterons également de la nature florissante pour parler des plantes de montagne et\, pourquoi pas\, effectuer une petite cueillette de plantes sauvages comestibles et médicinales. La sortie se fait en accès bus. \nNiveau : pratique régulière (une dizaine de kilomètres\, et 800m de dénivelé max). Il n’y a pas de difficulté technique. \nRendez-vous dimanche 31 mars à l’arrêt “Notre-Dame Musée” à Grenoble à 9h et nous prendrons le bus T62 direction Col de Porte. \nCoût : 5€ de participation à l’encadrement + 5€ en cas de prêt de matériel\n+ frais de transport (abonnement M TAG aller-retour)\n \nInscriptions et paiement avant ce jeudi 18H : via helloasso Sortie annulée : pas assez d’inscrits \nhttps://www.helloasso.com/associations/alpes-la/evenements/dimanche-31-03-rando-chamechaude-sommet-de-la-chartreuse-intermediaire\npense à choisir le billet “Prêt de matériel” si nécessaire \nMerci de procéder au paiement avant jeudi. Si jamais vous ne pouvez finalement pas venir\, alors que vous avez déjà payé votre participation\, je peux vous faire un avoir sur une prochaine sortie si vous me prévenez et que je trouve quelqu’un d’autre sur liste d’attente.\n \nTicket de bus : abonnement M TAG pour l’aller-retour. \nMatériel à prévoir : sac à dos suffisamment grand pour mettre le matériel de sécurité\, chaussures de marche étanches avec bonne adhérence\, tenue adaptée à la randonnée (incluant polaire ou doudoune)\, veste coupe-vent\, bonnet\, gants\, eau 1L minimum\, pique-nique\, barres de céréales ou fruits secs\, lunettes de soleil\, sachet pour la cueillette de plantes (optionnel)\, ecocup\, bâtons de randonnée\, crampons de randonnée\, DVA/pelle/sonde (à confirmer par l’encadrante dans la semaine). \nPrêt matériel : il est possible de louer au club lors de la permanence du jeudi entre 18h et 19h :\ndes crampons de randonnée et/ou un kit DVA/pelle/sonde (contribution de 5€ au total pour tout ou une partie du matériel)\, à récupérer au local du club lors de la permanence du jeudi soir\nNous irons rendre le matériel au club à la fin de la sortie. \nA dimanche dans la montagne 🙂 \nAnaïs \n \n 
URL:https://www.grenoble-rando-universite.fr/event/dimanche-31-03-rando-vers-chamechaude-sommet-de-la-chartreuse-intermediaire/
LOCATION:chartreuse
CATEGORIES:Rando à pied
ATTACH;FMTTYPE=image/jpeg:https://www.grenoble-rando-universite.fr/wp-content/uploads/2024/03/020311_Chamech_dStEynard_5.jpg
ORGANIZER;CN="Ana%C3%AFs%20accompagnatrice%20en%20montagne":MAILTO:anais.legras@protonmail.com
END:VEVENT
END:VCALENDAR