BEGIN:VCALENDAR
VERSION:2.0
PRODID:-// - ECPv5.14.0.4//NONSGML v1.0//EN
CALSCALE:GREGORIAN
METHOD:PUBLISH
X-ORIGINAL-URL:https://www.grenoble-rando-universite.fr
X-WR-CALDESC:évènements pour 
BEGIN:VTIMEZONE
TZID:Europe/Paris
BEGIN:DAYLIGHT
TZOFFSETFROM:+0100
TZOFFSETTO:+0200
TZNAME:CEST
DTSTART:20230326T010000
END:DAYLIGHT
BEGIN:STANDARD
TZOFFSETFROM:+0200
TZOFFSETTO:+0100
TZNAME:CET
DTSTART:20231029T010000
END:STANDARD
END:VTIMEZONE
BEGIN:VEVENT
DTSTART;VALUE=DATE:20230205
DTEND;VALUE=DATE:20230206
DTSTAMP:20260421T121314
CREATED:20230131T090723Z
LAST-MODIFIED:20250221T183737Z
UID:10086-1675555200-1675641599@www.grenoble-rando-universite.fr
SUMMARY:Dimanche 5/02 : Plateau de la Molière depuis Engins
DESCRIPTION:Salut\, \nCe dimanche\, direction Vercors ! \nNous irons sur le plateau de la Molière depuis Engins que nous rejoindrons en bus. \nNous pourrons y voir tous les massifs environnants de Grenoble. \nIl te faudra pour cela tout pour te protéger du froid : bonnes chaussures\, pantalon imperméable\, K-Way\, polaire\, gants\, bonnets\, casquette\, lunette\, sac à dos 25L min. \nTu auras aussi besoin de raquettes\, bâtons et pack DVA (prêt possible par le Club). \nN’oublie pas de quoi manger et boire : Eau (minimum 1\,5L)\, le repas du midi et de quoi grignoter. \nNiveau organisation : \nRendez-vous 8h30 au local (4a rue de la Station Ponsard\, Grenoble) pour récupérer le matériel puis nous prendrons le bus pour rejoindre la gare où nous prendrons un dernier bus pour Engins. \nRetour estimé au local à 18h20. \nNiveau difficulté\, ce sera : \n750m de d+ et d- pour 10km \nDernière chose\, prévois 5€ pour l’encadrement et 5€ si t’as besoin de matériel. \nInscription en commentaire avec ce qui te manque jusqu’à jeudi 20h. \n8 places maximum \nA dimanche\, \nJohan\, Encadrant bénévole
URL:https://www.grenoble-rando-universite.fr/event/dimanche-5-fevrier-plateau-de-la-moliere-depuis-engins/
CATEGORIES:Rando Raquettes
ATTACH;FMTTYPE=image/jpeg:https://www.grenoble-rando-universite.fr/wp-content/uploads/2023/01/Dent_du_Loup_boucle_003.jpg
END:VEVENT
END:VCALENDAR