BEGIN:VCALENDAR
VERSION:2.0
PRODID:-// - ECPv5.14.0.4//NONSGML v1.0//EN
CALSCALE:GREGORIAN
METHOD:PUBLISH
X-ORIGINAL-URL:https://www.grenoble-rando-universite.fr
X-WR-CALDESC:évènements pour 
BEGIN:VTIMEZONE
TZID:Europe/Paris
BEGIN:DAYLIGHT
TZOFFSETFROM:+0100
TZOFFSETTO:+0200
TZNAME:CEST
DTSTART:20220327T010000
END:DAYLIGHT
BEGIN:STANDARD
TZOFFSETFROM:+0200
TZOFFSETTO:+0100
TZNAME:CET
DTSTART:20221030T010000
END:STANDARD
END:VTIMEZONE
BEGIN:VEVENT
DTSTART;TZID=Europe/Paris:20221106T080000
DTEND;TZID=Europe/Paris:20221106T170000
DTSTAMP:20260424T104528
CREATED:20221030T170001Z
LAST-MODIFIED:20250221T184050Z
UID:9676-1667721600-1667754000@www.grenoble-rando-universite.fr
SUMMARY:[COMPLET] Dimanche 6 Nov : Dent du Loup / Sornin
DESCRIPTION:=============== Rando Dimanche 6 Nov : Dent du Loup / Sornin ===================== \nCette rando en boucle présente plusieurs facettes: \n\nUn coté assez classique avec  de beaux points de vue sur Grenoble et les montagnes environnantes\, que la neige aura un peu blanchies\nUn coté plus sauvage avec les falaises de la Dent du Loup\n\nDénivelé : 700m .\nNiveau: Découverte/Intermédiaire \nEquipement\nVêtements chauds ! Bonnet\,gants\, coupe vent . Chaussures qui ne glissent pas . Lunettes de soleil . Il peut faire chaud pendant la montée\, et froid après … Picnic\, 1\,5l d’eau . \nCoût: 5€ + environ 5€ de co-voiturage  . Paiement en liquide le jour de la sortie ( prenez de la monnaie ! ) \nRendez vous :\nATTENTION:  changement de lieu/heure ! \n8h30 Place Robert Schumann ( grenoble\, quartier Europole ) au niveau de l’avenue Doyen Louis Weil \nInscription: en mettant un commentaire ( jusqu’à Vendredi 20h  ) –   9 places\n– nom prénom\n– places de voiture (conducteur inclus )\n \nIl faudra une voiture en plus de la mienne … \nA Dimanche ! \n \n 
URL:https://www.grenoble-rando-universite.fr/event/dimanche6nov22/
CATEGORIES:Rando à pied
ATTACH;FMTTYPE=image/jpeg:https://www.grenoble-rando-universite.fr/wp-content/uploads/2022/10/sornin1.jpg
END:VEVENT
END:VCALENDAR