BEGIN:VCALENDAR
VERSION:2.0
PRODID:-// - ECPv5.14.0.4//NONSGML v1.0//EN
CALSCALE:GREGORIAN
METHOD:PUBLISH
X-ORIGINAL-URL:https://www.grenoble-rando-universite.fr
X-WR-CALDESC:évènements pour 
BEGIN:VTIMEZONE
TZID:Europe/Paris
BEGIN:DAYLIGHT
TZOFFSETFROM:+0100
TZOFFSETTO:+0200
TZNAME:CEST
DTSTART:20250330T010000
END:DAYLIGHT
BEGIN:STANDARD
TZOFFSETFROM:+0200
TZOFFSETTO:+0100
TZNAME:CET
DTSTART:20251026T010000
END:STANDARD
END:VTIMEZONE
BEGIN:VEVENT
DTSTART;TZID=Europe/Paris:20251126T201500
DTEND;TZID=Europe/Paris:20251126T220000
DTSTAMP:20260422T182231
CREATED:20251113T231956Z
LAST-MODIFIED:20251114T084518Z
UID:15693-1764188100-1764194400@www.grenoble-rando-universite.fr
SUMMARY:[Film] Mercredi 26 novembre Avant-Première "Cabanes Libres" au Cinéma Le Club Grenoble
DESCRIPTION:Le film “Cabanes Libres” réalisé par l’association Alpes Là en partenariat avec l’asso “Tous à Poêle” arrive au cinéma !\nUn film tourné notamment lors de randonnées du club !\nOn te donne RDV pour cette soirée spéciale avant-première au cinéma Le Club\, l’occasion aussi de rencontrer les personnes qui ont réalisé le film et des intervenants. \nSéance Mercredi 26 novembre à 20h15.\nBilletterie Helloasso (pas de billetterie au cinéma) : il est fortement conseillé de prendre sa place à l’avance (places limitées… 150 places mais il y en a déjà bien moins de dispo !). \nLieu : Cinéma Le Club à Grenoble \nTarif : à partir de 6€\, ou 5€  (avec le code promo : GRU  juste avant de payer\, 1€ de réduction)\, pas plus cher qu’une rando ! \nInfos et billetterie : alpes-la.org/avant-premiere-cinema-a-grenoble-du-film-cabanes-libres/ \nBande annonce (non officielle) :
URL:https://www.grenoble-rando-universite.fr/event/film-mercredi-26-novembre-avant-premiere-cabanes-libres-au-cinema-le-club-grenoble/
CATEGORIES:Evènement
ATTACH;FMTTYPE=image/jpeg:https://www.grenoble-rando-universite.fr/wp-content/uploads/2025/11/Affiche-Cabanes-Libres-web-details-1086x1536-1.jpg
END:VEVENT
END:VCALENDAR