BEGIN:VCALENDAR
VERSION:2.0
PRODID:-// - ECPv5.14.0.4//NONSGML v1.0//EN
CALSCALE:GREGORIAN
METHOD:PUBLISH
X-ORIGINAL-URL:https://www.grenoble-rando-universite.fr
X-WR-CALDESC:évènements pour 
BEGIN:VTIMEZONE
TZID:Europe/Paris
BEGIN:DAYLIGHT
TZOFFSETFROM:+0100
TZOFFSETTO:+0200
TZNAME:CEST
DTSTART:20220327T010000
END:DAYLIGHT
BEGIN:STANDARD
TZOFFSETFROM:+0200
TZOFFSETTO:+0100
TZNAME:CET
DTSTART:20221030T010000
END:STANDARD
END:VTIMEZONE
BEGIN:VEVENT
DTSTART;TZID=Europe/Paris:20220708T073000
DTEND;TZID=Europe/Paris:20220710T190000
DTSTAMP:20260422T123422
CREATED:20220622T081231Z
LAST-MODIFIED:20220622T081231Z
UID:8989-1657265400-1657479600@www.grenoble-rando-universite.fr
SUMMARY:Mini traversée de Belledonne en mode ultra light
DESCRIPTION:Bonjour\, \ndu vendredi 8 juillet au dimanche 10 juillet\, je traverserai une partie du coeur de Belledonne en mode ultra light (sac de 5-6 kilos!). \nc’est une expérience très sympathique qui\, du fait d’un poids allégé\, permet d’économiser les efforts sur les articulations et le dos\, une meilleure récupération\, de plus grandes distances parcourues en moins de temps\, la possibilité de se faire de belles pauses à des endroits incomparables\, le fait de rester en altitude sur une “haute route” et ne pas redescendre tout le temps en vallée. Je partirai de Grenoble en bus jusqu’à Allevard\, un petit peu de Stop et départ depuis Pinsot pour le refuge de l’Oule (1300 mètres de dénivelé en 5 heures environ). Nuit au refuge en demi-pension ou avec votre repas si vous préférez. Le lendemain\, départ vers la selle du puy gris puis le col d’Arguille (superbe itinéraire en altitude) et ascension du rocher Blanc pour redescendre vers le refuge des sept laux en fin d’après-midi (2200 mètres de dénivelé en 8-9 heures). Dimanche\, départ vers le col de la vache\, le pas de la coche puis redescente vers Prapoutel les adrets (journée tranquille de 600 de dénivelé positif\, environ 8 heures pour aller  récupérer un bus aux Adrets). \nCoût: en fonction du choix de porter ou pas tous ses repas (de 50 euros  à 85 euros) comprenant les tickets de bus et l’hébergement. \nMatériel: je vous propose une petite réunion le mercredi 29 juin à 18h00 au local pour vous présenter “mon sac” \nAttention\, si vous êtes intéressés par la demi-pension dans les refuges\, il ne faut pas tarder à réserver! \nInscrivez-vous en indiquant vos noms\, prénoms. \nEmmanuel
URL:https://www.grenoble-rando-universite.fr/event/mini-traversee-de-belledonne-en-mode-ultra-light/
LOCATION:Belledonne
CATEGORIES:Rando-trail
ATTACH;FMTTYPE=image/jpeg:https://www.grenoble-rando-universite.fr/wp-content/uploads/2022/06/IMG_20170716_102113-1-scaled.jpg
END:VEVENT
END:VCALENDAR