BEGIN:VCALENDAR
VERSION:2.0
PRODID:-// - ECPv5.14.0.4//NONSGML v1.0//EN
CALSCALE:GREGORIAN
METHOD:PUBLISH
X-ORIGINAL-URL:https://www.grenoble-rando-universite.fr
X-WR-CALDESC:évènements pour 
BEGIN:VTIMEZONE
TZID:Europe/Paris
BEGIN:DAYLIGHT
TZOFFSETFROM:+0100
TZOFFSETTO:+0200
TZNAME:CEST
DTSTART:20250330T010000
END:DAYLIGHT
BEGIN:STANDARD
TZOFFSETFROM:+0200
TZOFFSETTO:+0100
TZNAME:CET
DTSTART:20251026T010000
END:STANDARD
END:VTIMEZONE
BEGIN:VEVENT
DTSTART;TZID=Europe/Paris:20250918T160000
DTEND;TZID=Europe/Paris:20250918T190000
DTSTAMP:20260422T210034
CREATED:20250917T145207Z
LAST-MODIFIED:20250917T150750Z
UID:15360-1758211200-1758222000@www.grenoble-rando-universite.fr
SUMMARY:Permanence de rentrée - Viens découvrir le club
DESCRIPTION:C’est la rentrée du club ! 🎉\nTu es nouvelle/nouveau au club ?\nou bien tu voudrais adhérer ?\nEnvie d’en savoir plus sur nos activités\, comment ça fonctionne\, le programme\, le matériel utile et qu’on peut te prêter\,… ? \nAlors RDV à notre permanence spéciale rentrée ce jeudi 18 septembre de 16h à 19h **\nEt pour plus d’infos et adhérer en ligne\, RDV aussi sur notre site (lien en bio) \n** C’est où ? ! Attention\, nouveau local !\nClub Rando / Association Alpes Là\n1er étage du Collectif Voisin\n11 place André Charpin\n38100 Grenoble
URL:https://www.grenoble-rando-universite.fr/event/permanence-de-rentree-viens-decouvrir-le-club/
CATEGORIES:Evènement
ATTACH;FMTTYPE=image/png:https://www.grenoble-rando-universite.fr/wp-content/uploads/2025/09/Permance-Club-Rando-1.png
END:VEVENT
END:VCALENDAR