BEGIN:VCALENDAR
VERSION:2.0
PRODID:-// - ECPv5.14.0.4//NONSGML v1.0//EN
CALSCALE:GREGORIAN
METHOD:PUBLISH
X-ORIGINAL-URL:https://www.grenoble-rando-universite.fr
X-WR-CALDESC:évènements pour 
BEGIN:VTIMEZONE
TZID:UTC
BEGIN:STANDARD
TZOFFSETFROM:+0000
TZOFFSETTO:+0000
TZNAME:UTC
DTSTART:20240101T000000
END:STANDARD
END:VTIMEZONE
BEGIN:VEVENT
DTSTART;TZID=UTC:20240203T100000
DTEND;TZID=UTC:20240203T170000
DTSTAMP:20260421T111355
CREATED:20240201T091757Z
LAST-MODIFIED:20250221T183313Z
UID:12268-1706954400-1706979600@www.grenoble-rando-universite.fr
SUMMARY:Samedi 03/02 Rando en dehors des sentiers battus
DESCRIPTION:Bonjour bonjour\, \nSi vous êtes curieux d’explorer la forêt en dehors des sentiers\, d’observer\, d’écouter\, de sentir ce qui se cache sous les bois\, venez en rando samedi en Chartreuse ! Depuis le Sappey-en-Chartreuse\, on montera hors sentier vers le fort Saint Eynard\, et on redescendra par les sentiers jusqu’au col de Vence. La rando ne sera pas longue en distance mais le terrain un peu technique (montée dans la forêt)\, et on prendra le temps de regarder ce qu’on trouve. \nRDV à 10h30 à l’arrêt Notre-Dame Musée samedi 3 février. Pensez à prendre votre carte Oura si vous en avez une. \nPensez à l’eau\, au pic-nic\, à des bâtons si besoin\, à vos jumelles peut-être\, des vêtements chauds. \nSi vous avez besoin de matériel\, passez à la permanence du club ce soir entre 18h et 19h. \nInscrivez-vous en commentaire ci-dessous\, et pensez à ramener 5 euros pour l’encadrement. \nIl y a 5 places pour la rando. \nÀ bientôt peut-être ! \nClaire\, 07 80 04 61 96
URL:https://www.grenoble-rando-universite.fr/event/rando-en-dehors-des-sentiers-battus-samedi-3-fevrier/
CATEGORIES:Rando à pied
ATTACH;FMTTYPE=image/jpeg:https://www.grenoble-rando-universite.fr/wp-content/uploads/2023/11/P1216312-1.jpg
END:VEVENT
END:VCALENDAR