BEGIN:VCALENDAR
VERSION:2.0
PRODID:-// - ECPv5.14.0.4//NONSGML v1.0//EN
CALSCALE:GREGORIAN
METHOD:PUBLISH
X-ORIGINAL-URL:https://www.grenoble-rando-universite.fr
X-WR-CALDESC:évènements pour 
BEGIN:VTIMEZONE
TZID:UTC
BEGIN:STANDARD
TZOFFSETFROM:+0000
TZOFFSETTO:+0000
TZNAME:UTC
DTSTART:20230101T000000
END:STANDARD
END:VTIMEZONE
BEGIN:VEVENT
DTSTART;TZID=UTC:20231007T080000
DTEND;TZID=UTC:20231007T170000
DTSTAMP:20260420T192245
CREATED:20230926T202011Z
LAST-MODIFIED:20231002T220537Z
UID:11277-1696665600-1696698000@www.grenoble-rando-universite.fr
SUMMARY:Samedi 07/10 : Randonnée à thème : Les risques naturels en montagne avec le RTM en Chartreuse
DESCRIPTION:Connaissez-vous le RTM ?\nRTM signifie Restauration des Terrains de Montagne\, c’est un service spécialisé de l’Office National des Forêts dont les missions sont l’évaluation\, la prévention et la protection vis à vis des risques naturels en montagne. \n \nDans le cadre des journées “Tous résilients face aux risques”\, l’association Alpes Là et son club Grenoble Rando Université proposent plusieurs randonnées sur la thématique des risques naturels.\nLa première d’entre elles aura donc lieu le samedi 7 octobre en présence de Robin Mainieri chef de projet au RTM de l’Isère. \nLa randonnée se déroulera dans le Grésivaudan. Nous partirons du village de La Terrasse et nous remonterons le torrent du même nom dans le lit duquel de nombreux ouvrages du RTM sont présents. \nA cette occasion\, Robin nous présentera la raison d’être du service RTM dont l’origine remonte à la fin du 19° siècle. Ce sera également le moment de présenter les diverses missions d’aujourd’hui du RTM qui ont évoluées au fil du temps. \nNous continuerons ensuite la randonnée vers le plateau des Petites Roches depuis lequel nous aurons une vue sur la Chartreuse derrière nous\, la vallée du Grésivaudan à nos pieds et le massif de Belledonne en face de nous. \nCette vue panoramique\, offrira un support à Robin pour évoquer l‘impact des changements environnementaux (climatiques et/ou occupation du territoire) sur les risques naturels en montagne. \n    \nSi vous avez des questions sur : \n\nLa sensibilité des villages du Grésivaudan aux aléas de montagne\nLes risques émergents en haute montagne en lien avec le réchauffement climatique\nLes écroulements en moyenne montagne (actualité en Maurienne)\nL’évolution du risque d’avalanche\n\nÇa sera le moment ! \nNiveau requis: \n\nLa randonnée en elle même sera accessible au plus grand nombre (environ 9km et 650m de dénivelé positif). Le matériel nécessaire se limitera à une bonne paire de chaussures et à des vêtements adaptés à la météo du jour. Éventuellement une paire de bâtons pour ceux/celles qui le souhaitent.\n\nTransport : \n\nCovoiturage depuis Grenoble. \nRDV au local du club à 8h15\n\nEquipement : \n\nEquipement de randonnée classique pour une randonnée à la journée\nIl faudra prévoir de l’eau et votre pique-nique du midi !\n\nCoûts : \n\nParticipation à l’encadrement : 5€ pour les membres du club\, 10€ pour les autres publics\nFrais de transport (participation au covoiturage) : 0\,30€/km/voiture soit environ 8€/personne (suivant le nombre de participants)\, à amener en monnaie le jour J\n\nInscriptions : \n\nNombre de places : 10 participants maximum\nSur Helloasso : helloasso.com/associations/alpes-la/boutiques/samedi-07-10-rando-risques-en-montagne-chartreuse-rtm (choisis ta place comme passager ou conducteur suivant si tu as ou pas une voiture)\n\nSi vous êtes intéressé(e)s ou si vous avez des questions\, n’hésitez pas à laisser des commentaires sur cette page (en particulier indiquez si vous disposez ou non d’une voiture). \n  \n  \n  \n  \n 
URL:https://www.grenoble-rando-universite.fr/event/randonnee-a-theme-les-risques-naturels-en-montagne/
LOCATION:Grésivaudan\, La Terrasse\, France
CATEGORIES:Rando à pied
ATTACH;FMTTYPE=image/jpeg:https://www.grenoble-rando-universite.fr/wp-content/uploads/2023/09/ecole-risque-montagne-2023-affiche-web.jpg
ORGANIZER;CN="Fran%C3%A7ois-Luc":MAILTO:fl.cimeliere@gmail.com
END:VEVENT
END:VCALENDAR