BEGIN:VCALENDAR
VERSION:2.0
PRODID:-// - ECPv5.14.0.4//NONSGML v1.0//EN
CALSCALE:GREGORIAN
METHOD:PUBLISH
X-ORIGINAL-URL:https://www.grenoble-rando-universite.fr
X-WR-CALDESC:évènements pour 
BEGIN:VTIMEZONE
TZID:Europe/Paris
BEGIN:DAYLIGHT
TZOFFSETFROM:+0100
TZOFFSETTO:+0200
TZNAME:CEST
DTSTART:20230326T010000
END:DAYLIGHT
BEGIN:STANDARD
TZOFFSETFROM:+0200
TZOFFSETTO:+0100
TZNAME:CET
DTSTART:20231029T010000
END:STANDARD
END:VTIMEZONE
BEGIN:VEVENT
DTSTART;TZID=Europe/Paris:20230311T070000
DTEND;TZID=Europe/Paris:20230311T180000
DTSTAMP:20260421T173406
CREATED:20230306T112918Z
LAST-MODIFIED:20230309T121759Z
UID:10392-1678518000-1678557600@www.grenoble-rando-universite.fr
SUMMARY:[ANNULEE] Randonnée crampon au Pic Saint Michel
DESCRIPTION:Randonnée annulée/reportée ! (mauvaise météo et pas assez d’inscrits) \nBonjour\, \nJe propose une randonnée hivernale avec crampons sur les portions qui le nécessiteront\, ce samedi 11 mars dans le Vercors. Nous monterons en direction du Pic Saint Michel. En fonction de la motivation du groupe\, nous pourrons ensuite partir sur les crêtes en direction du Vertige des Cimes. \nRendez-vous : samedi 11 mars à 7h15 à la gare routière de Grenoble. Nous prendrons le bus T65 pour Lans en Vercors. Nous reviendrons par un bus équivalent qui nous déposera à la gare routière au plus tard à 18h (et probablement entre 16h et 17h\, ce ne sont pas les options de retour en bus qui manquent!). \nNiveau / Difficultés : niveau sportif\, avec entre 10 et 15km et 1000 m de dénivelé positif environ \nMatériel à avoir ou à emprunter au club : \n\nPique-nique pour le midi\, 1L d’eau minimum\nVêtements adaptés à la pratique de la randonnée dans le froid (pensez gants et bonnet!) et à la météo du jour\nCrampons\, bâtons (optionnels)\nvoir la liste de matériel conseillée pour les randos raquettes\n\nCoûts : \n\nParticipation à l’encadrement : 5€ (à payer lors de l’inscription en ligne sur HelloAsso)\n\nContribution en cas de prêt de matériel : crampons  : 5€ (à payer lors de l’inscription en ligne sur HelloAsso)\nprêt gratuit de bâtons\, guêtres\, sac à dos\,… dans la limite des stocks disponibles \n\nTicket de car aller-retour : 9€ (à payer à l’encadrant le jour de la sortie) ou prévoir de charger votre carte Oura avec un cartnet de 6 tickets zone A\,B\,C à un guichet Transisère (vous pourrez ainsi bénéficier d’un tarif -26ans auquel je n’ai pas accès) réutilisables pour repartir dans le Vercors ou en Chartreuse.\n\n\n\nInscriptions : (8 places) : ANNULE ! : préciser votre pointure dans les commentaires. \nRécupération du matériel lors de la permanence du jeudi 09 mars entre 18h à 19h au local du club. Le matériel emprunté sera rendu et déposé au local le samedi soir après la sortie. \nPense à regarder ta boite mail à l’approche de la sortie ! \nPour toute question avant ton inscription\, tu peux la poser en commentaire ci-dessous. \nA bientôt\, \nSophie Lovato \nAccompagnatrice en montagne pour le club Grenoble Rando Université
URL:https://www.grenoble-rando-universite.fr/event/randonnee-crampon-au-pic-saint-michel/
LOCATION:Vercors\, Les Clos\, Le Gua\, 38450\, France
CATEGORIES:Rando à pied
ATTACH;FMTTYPE=image/jpeg:https://www.grenoble-rando-universite.fr/wp-content/uploads/2023/03/IMG_20210503_103818458_HDR.jpg
END:VEVENT
END:VCALENDAR