BEGIN:VCALENDAR
VERSION:2.0
PRODID:-// - ECPv5.14.0.4//NONSGML v1.0//EN
CALSCALE:GREGORIAN
METHOD:PUBLISH
X-ORIGINAL-URL:https://www.grenoble-rando-universite.fr
X-WR-CALDESC:évènements pour 
BEGIN:VTIMEZONE
TZID:UTC
BEGIN:STANDARD
TZOFFSETFROM:+0000
TZOFFSETTO:+0000
TZNAME:UTC
DTSTART:20250101T000000
END:STANDARD
END:VTIMEZONE
BEGIN:VEVENT
DTSTART;TZID=UTC:20251204T183000
DTEND;TZID=UTC:20251204T233000
DTSTAMP:20260422T004153
CREATED:20251130T080049Z
LAST-MODIFIED:20251208T123647Z
UID:15771-1764873000-1764891000@www.grenoble-rando-universite.fr
SUMMARY:RANDO ANNULEE - Randonnée raquette pleine  lune
DESCRIPTION:Bonjour\, \nFINALEMENT\, APRES AVOIR PRIS EN COMPTE PLUSIEURS MODELES METEO\, LA RANDO NE SERA PAS MAINTENUE CAR LA COUVERTURE NUAGEUSE SERA TROP IMPORTANTE ET ON NE POURRAIT VOIR LA LUNE QU’A DEUX HEURES DU MATIN! \nune occasion unique qui ne se renouvellera pas avant … 2042! \nVenez vivre cette expérience de la “cold moon” 2025 dans la nuit du 4 au 5 décembre 2025. \nNous partirons du club à 19h00  après avoir récupérer les raquettes et monterons dans le Vercors pour profiter de cette magnifique randonnée sous la lune vers le “Vertige des Cimes”. \n450 mètres de dénivelé à un rythme tranquille puis après quelques photos au 1000 ASA\, nous redescendrons nous réchauffer avec un vin chaud maison dans une petite cabane à proximité. \nCoût: 7 euros co-voiturage + 3 euros (rando demi-journée) + 5 euros location des raquettes. \nRDV au club à 18h30\, retour vers 23 heures 30 à l’arrêt Prisme à seyssins. \nPrévoir une frontale\, des chaussures\, des vêtements très chauds\, un bonnet\, des gants très chauds et 2\, 3 petites choses à grignoter pour partager un bon moment!\ninscrivez-vous sous ce post \, il y a peu de places (4 si une voiture\, 8 si 2 voitures). \nEmmanuel \n 
URL:https://www.grenoble-rando-universite.fr/event/randonnee-raquette-pleine-lune/
LOCATION:Vercors\, Les Clos\, Le Gua\, 38450\, France
CATEGORIES:Rando Raquettes
ATTACH;FMTTYPE=image/jpeg:https://www.grenoble-rando-universite.fr/wp-content/uploads/2023/02/coucher-soleil-raquettes-rando-plateau-vercors-neige.jpg
END:VEVENT
END:VCALENDAR