BEGIN:VCALENDAR
VERSION:2.0
PRODID:-// - ECPv5.14.0.4//NONSGML v1.0//EN
CALSCALE:GREGORIAN
METHOD:PUBLISH
X-ORIGINAL-URL:https://www.grenoble-rando-universite.fr
X-WR-CALDESC:évènements pour 
BEGIN:VTIMEZONE
TZID:Europe/Paris
BEGIN:DAYLIGHT
TZOFFSETFROM:+0100
TZOFFSETTO:+0200
TZNAME:CEST
DTSTART:20220327T010000
END:DAYLIGHT
BEGIN:STANDARD
TZOFFSETFROM:+0200
TZOFFSETTO:+0100
TZNAME:CET
DTSTART:20221030T010000
END:STANDARD
END:VTIMEZONE
BEGIN:VEVENT
DTSTART;TZID=Europe/Paris:20221117T190000
DTEND;TZID=Europe/Paris:20221117T200000
DTSTAMP:20260422T123555
CREATED:20221110T152236Z
LAST-MODIFIED:20221110T152929Z
UID:9706-1668711600-1668715200@www.grenoble-rando-universite.fr
SUMMARY:Réunion Apéro Commission du club de novembre
DESCRIPTION:RDV au local du club autour d’un verre pour la soirée commission du Club Rando. \nSi tu as envie de t’impliquer dans le club (encadrement de rando\, communication\, événements\, tenue de permanences\,…) \, n’hésite pas à venir ! \nOrdre du jour prévisionnel :\n– Organisation du prêt de matériel\n– Organisation des permanences avec bénévoles\n– Mise à jour des conventions encadrant.e.s\n– Achat de nouveaux matériels\n– Transport lors des sorties\n– Compte HelloAsso pour toutes les sorties ?\n…
URL:https://www.grenoble-rando-universite.fr/event/reunion-apero-commission-du-club-de-novembre/
LOCATION:Local Club Rando et Alpes Là
CATEGORIES:Evènement
ATTACH;FMTTYPE=image/jpeg:https://www.grenoble-rando-universite.fr/wp-content/uploads/2022/06/2-Week-end-entre-benevoles-et-encadrants-du-club-au-depart-des-Seiglieres.jpg
END:VEVENT
END:VCALENDAR