BEGIN:VCALENDAR
VERSION:2.0
PRODID:-// - ECPv5.14.0.4//NONSGML v1.0//EN
CALSCALE:GREGORIAN
METHOD:PUBLISH
X-ORIGINAL-URL:https://www.grenoble-rando-universite.fr
X-WR-CALDESC:évènements pour 
BEGIN:VTIMEZONE
TZID:UTC
BEGIN:STANDARD
TZOFFSETFROM:+0000
TZOFFSETTO:+0000
TZNAME:UTC
DTSTART:20260101T000000
END:STANDARD
END:VTIMEZONE
BEGIN:VEVENT
DTSTART;TZID=UTC:20260328T094500
DTEND;TZID=UTC:20260328T170000
DTSTAMP:20260422T140914
CREATED:20260305T104523Z
LAST-MODIFIED:20260326T171645Z
UID:16074-1774691100-1774717200@www.grenoble-rando-universite.fr
SUMMARY:Samedi 28/03 Rando découverte du balisage des sentiers avec la FFR
DESCRIPTION:SORTIE ANNULEE SUITE A UNE CONTRAINTE DE LA FEDERATION DE RANDONNEE\n\nNous vous proposons une randonnée facile samedi prochain (28.03) à la découverte du balisage de nos sentiers ! Cette sortie est proposée en collaboration avec la Fédération française de randonnée d’Isère qui nous accompagnera et nous fournira tout le matériel nécessaire au balisage ! Nous serons dans le Vercors depuis Les Michalons jusqu’à La Tour Sans Venin. \n\nSortie gratuite\, pour s’inscrire : écrire un commentaire avec votre nom et prénom sur le site du club avant jeudi. J’écrirai jeudi en commentaire le nom des participant.es\n \n\n Les billets de bus sont fournis par le Club de même qu’un petit goûter ! \n SORTIE GRATUITE\n \n HORAIRES ET POINT DE RENDEZ-VOUS : \n\n\n9h45 Gare routière de Grenoble pour prendre le bus T65\n17h Retour à la Gare de Grenoble\n\n  \n\nLA RANDONNÉE\nItinéraire facile \n> 2.6km en descente \n> 350 mètres de dénivelé négatif\n \n EQUIPEMENT\n> Chaussures de randonnée\n> Pique nique\n> Lunettes de soleil\n> Au moins 1 litre d’eau
URL:https://www.grenoble-rando-universite.fr/event/samedi-14-03-rando-decouverte-du-balisage-des-sentiers-avec-la-ffr/
CATEGORIES:Evènement
ATTACH;FMTTYPE=image/jpeg:https://www.grenoble-rando-universite.fr/wp-content/uploads/2026/03/Balisage-scaled.jpg
ORGANIZER;CN="Doriane":MAILTO:doriane.rey25@gmail.com
END:VEVENT
END:VCALENDAR