BEGIN:VCALENDAR
VERSION:2.0
PRODID:-// - ECPv5.14.0.4//NONSGML v1.0//EN
CALSCALE:GREGORIAN
METHOD:PUBLISH
X-ORIGINAL-URL:https://www.grenoble-rando-universite.fr
X-WR-CALDESC:évènements pour 
BEGIN:VTIMEZONE
TZID:UTC
BEGIN:STANDARD
TZOFFSETFROM:+0000
TZOFFSETTO:+0000
TZNAME:UTC
DTSTART:20250101T000000
END:STANDARD
END:VTIMEZONE
BEGIN:VEVENT
DTSTART;TZID=UTC:20251115T083000
DTEND;TZID=UTC:20251115T210000
DTSTAMP:20260422T164442
CREATED:20251110T155411Z
LAST-MODIFIED:20260325T164857Z
UID:15665-1763195400-1763240400@www.grenoble-rando-universite.fr
SUMMARY:Samedi 15 novembre : Prégentil depuis Bourg d'Oisans\, dans le massif des Ecrins
DESCRIPTION:Photo Topo Alpes Là – Livre 50 randonnées sans voiture en Isère\n  \nBonjour à toutes et à tous\,\nAvant la neige\, on vous propose une rando à la journée avec transport en bus. Direction le massif des Ecrins\, pour découvrir le petit plateau de Prégentil !\n\nDifficultés :\nDifficulté sportive\, dénivelé 1237 m jusqu’à Prégentil (1938 m)\, environ 15 km en boucle.\nDépart de la randonnée au niveau de l’arrêt La Paute\, et retour par la gare de Bourg d’Oisans.\n\nMatériel : On préconise :\n\n\nCoupe-vent / imperméable.\n\n\nBâtons pour économiser les genoux.\n\n\nUn vêtement chaud type polaire.\n\n\nBonnet et/ou cache cou\, notamment pour la pause de midi.\n\n\nUne paire de gants en cas de vent froid.\n\n\nVotre lampe frontale car on finira de nuit ! (si tu n’en as pas\, indique le en commentaire pour que le club t’en prête)\n\n\nTransport :\nBus : \n\n\nBus Cars Région T75 au départ de la gare de Grenoble\,\nRDV à 8h30 au plus tard (bus de 8h40)\n\n\nRetour estimé à Grenoble vers 20h30.\n\nRepas :\n–  A vous de prévoir votre pique-nique et environ 1\,5L d’eau suivant vos besoins.\n\nCoûts :\n– participation club aux encadrements : (5€/jour)\n– transport : Bus : 5€ l’aller-retour : fourni par le club (amené par l’encadrant le jour J)\, à prendre lors de l’inscription Helloasso.\n\nInscription sur Helloasso : helloasso.com/associations/alpes-la/evenements/ludovic-rando-2\nNombre de places : 10 places\n\nN’hésites pas à poser tes questions en commentaire ci-dessous\n\nA bientôt !\nNicolas et Ludovic encadrants bénévoles
URL:https://www.grenoble-rando-universite.fr/event/samedi-15-novembre-pregentil-depuis-bourg-doisans-dans-le-massif-des-ecrins/
CATEGORIES:Rando à pied
ATTACH;FMTTYPE=image/jpeg:https://www.grenoble-rando-universite.fr/wp-content/uploads/2025/11/pregentil-bourg-oisans-alpes-la.jpg
ORGANIZER;CN="Ludovic":MAILTO:Ludovic_Delaunay@hotmail.com
END:VEVENT
END:VCALENDAR