BEGIN:VCALENDAR
VERSION:2.0
PRODID:-// - ECPv5.14.0.4//NONSGML v1.0//EN
CALSCALE:GREGORIAN
METHOD:PUBLISH
X-ORIGINAL-URL:https://www.grenoble-rando-universite.fr
X-WR-CALDESC:évènements pour 
BEGIN:VTIMEZONE
TZID:UTC
BEGIN:STANDARD
TZOFFSETFROM:+0000
TZOFFSETTO:+0000
TZNAME:UTC
DTSTART:20250101T000000
END:STANDARD
END:VTIMEZONE
BEGIN:VEVENT
DTSTART;TZID=UTC:20250524T083000
DTEND;TZID=UTC:20250524T180000
DTSTAMP:20260423T014649
CREATED:20250519T194647Z
LAST-MODIFIED:20250520T210107Z
UID:14876-1748075400-1748109600@www.grenoble-rando-universite.fr
SUMMARY:Samedi 24Mai : Granier Sud (800m)
DESCRIPTION:Le secteur Sud du Granier est souvent délaissé… et c’est une erreur ! \nFalaises majestueuses\, montée par un cirque magnifique\, après avoir traversé une grotte \, et au sommet\, panorama sur le MtBlanc et le grand synclinal de Chartreuse \nNiveau intermédiaire . Rythme tranquille\nDénivelé 800m . \nA la descente\, le sentier est agrémenté d’un passage de petits cailloux glissants (mais sans risque) \nEquipement:\nil FAUT des chaussures qui ne glissent pas\nLe temps se rafraichit! Un risque de vent frais au sommet n’est pas exclu : coupe vent\, polaire chaude\, bonnet \, gants\nCrême solaire\, lunette de soleil\, eau 1\,5l \, pic nic\nDes bâtons peuvent être utiles\nSi vous avez une frontale\, prenez là : on passera 5mn à aller voir le fond de la grotte de Balme à Colomb (facultatif) \nCoût :\n5€ à payer immédiatement sur HelloAsso\n+  covoiturage ( de  8€ à 10€ )  Prenez de la monnaie ! \nRendez vous : 8h30 station “Condillac-Universités” du Tramway  ( Ce n’est pas le lieu habituel ) \nInscription : sur le lien HelloAsso avant jeudi 21h\nhttps://www.helloasso.com/associations/alpes-la/evenements/bernard-rando-36 \n( pas de mail de confirmation : je mettrai sur le site la liste des inscrits ) \nA Samedi !
URL:https://www.grenoble-rando-universite.fr/event/samedi-24mai-granier-sud-800m/
CATEGORIES:Rando à pied
ATTACH;FMTTYPE=image/jpeg:https://www.grenoble-rando-universite.fr/wp-content/uploads/2022/05/20190912_132901-scaled.jpg
END:VEVENT
END:VCALENDAR