BEGIN:VCALENDAR
VERSION:2.0
PRODID:-// - ECPv5.14.0.4//NONSGML v1.0//EN
CALSCALE:GREGORIAN
METHOD:PUBLISH
X-ORIGINAL-URL:https://www.grenoble-rando-universite.fr
X-WR-CALDESC:évènements pour 
BEGIN:VTIMEZONE
TZID:UTC
BEGIN:STANDARD
TZOFFSETFROM:+0000
TZOFFSETTO:+0000
TZNAME:UTC
DTSTART:20260101T000000
END:STANDARD
END:VTIMEZONE
BEGIN:VEVENT
DTSTART;TZID=UTC:20260425T090000
DTEND;TZID=UTC:20260425T173000
DTSTAMP:20260420T052855
CREATED:20260419T214903Z
LAST-MODIFIED:20260419T214903Z
UID:16193-1777107600-1777138200@www.grenoble-rando-universite.fr
SUMMARY:Samedi 25 Avril : Passerelles Himalayennes du Drac (500m)
DESCRIPTION:Ambiance Bleu Turquoise ce Samedi  🙂 \n2 boucles pour découvrir ces 2 passerelles impressionnantes\, et les eaux turquoise du lac . \nItinéraire sans danger\, mais certaines parties sur terrain argileux peuvent être glissantes/boueuses\nLes bâtons sont donc indispensables ! ( je peux en fournir quelques uns ) \nNiveau : débutant/intermédiaire – rythme tranquille\nDénivelé : 500m \n*** Plus d’infos et inscriptions HelloAsso à partir de Mardi soir ***
URL:https://www.grenoble-rando-universite.fr/event/samedi-25-avril-passerelles-himalayennes-du-drac-500m/
CATEGORIES:Rando à pied
ATTACH;FMTTYPE=image/jpeg:https://www.grenoble-rando-universite.fr/wp-content/uploads/2023/04/20230416_144127-scaled.jpg
END:VEVENT
END:VCALENDAR