BEGIN:VCALENDAR
VERSION:2.0
PRODID:-// - ECPv5.14.0.4//NONSGML v1.0//EN
CALSCALE:GREGORIAN
METHOD:PUBLISH
X-ORIGINAL-URL:https://www.grenoble-rando-universite.fr
X-WR-CALDESC:évènements pour 
BEGIN:VTIMEZONE
TZID:UTC
BEGIN:STANDARD
TZOFFSETFROM:+0000
TZOFFSETTO:+0000
TZNAME:UTC
DTSTART:20250101T000000
END:STANDARD
END:VTIMEZONE
BEGIN:VEVENT
DTSTART;TZID=UTC:20250927T083000
DTEND;TZID=UTC:20250927T173000
DTSTAMP:20260422T194548
CREATED:20250923T072953Z
LAST-MODIFIED:20250923T194606Z
UID:15447-1758961800-1758994200@www.grenoble-rando-universite.fr
SUMMARY:Samedi 27 Sept: Un joyau de l’Oisans : le Lac du Lauvitel ( 600m)
DESCRIPTION:Itinéraire en boucle\, pour admirer ce joyau de l’Oisans !\n– une fois arrivés au lac ( altitude 1500m) \, petite escapade aller/retour de 40mn\, pour s’approcher du bout du lac sur un sentier peu marqué \nNiveau: Découverte/Intermédiaire \nDénivelé 600m \nEquipement\nCoupe vent\, polaire chaude\, bonnet\, gants ( et oui \, l’été est fini … )\nLunettes de soleil\, crême solaire\, picnic \, 1\,5L d’eau\nil faut des chaussures qui ne glissent pas .\nDes bâtons peuvent être utiles ( je peux en apporter quelques uns ) \nCoût: 5€ à payer immédiatement sur HelloAsso\n+ co-voiturage ( 7€ à 9€) selon le remplissage des voitures : prenez de la monnaie \nRendez vous : 8h30 Station “Le Prisme” du tramway ligne C \nInscription : sur le lien HelloAsso avant Jeudi 21h\nhttps://www.helloasso.com/associations/alpes-la/evenements/bernard-rando-41 \n( pas de mail de confirmation: je mettrai sur le site la liste finale des inscrits ) \nA Samedi !
URL:https://www.grenoble-rando-universite.fr/event/samedi-27-sept-un-joyau-de-loisans-le-lac-du-lauvitel-600m/
CATEGORIES:Rando à pied
ATTACH;FMTTYPE=image/jpeg:https://www.grenoble-rando-universite.fr/wp-content/uploads/2019/09/20190530_lauvitel-e1568412894298.jpg
END:VEVENT
END:VCALENDAR