BEGIN:VCALENDAR
VERSION:2.0
PRODID:-// - ECPv5.14.0.4//NONSGML v1.0//EN
CALSCALE:GREGORIAN
METHOD:PUBLISH
X-ORIGINAL-URL:https://www.grenoble-rando-universite.fr
X-WR-CALDESC:évènements pour 
BEGIN:VTIMEZONE
TZID:UTC
BEGIN:STANDARD
TZOFFSETFROM:+0000
TZOFFSETTO:+0000
TZNAME:UTC
DTSTART:20240101T000000
END:STANDARD
END:VTIMEZONE
BEGIN:VEVENT
DTSTART;TZID=UTC:20241130T090000
DTEND;TZID=UTC:20241130T183000
DTSTAMP:20260423T090920
CREATED:20241127T182517Z
LAST-MODIFIED:20250221T180439Z
UID:13924-1732957200-1732991400@www.grenoble-rando-universite.fr
SUMMARY:Samedi 30 Novembre : Pointe du Pieu Vercors
DESCRIPTION:Bonjour à toutes et à tous\, \nJ’espère que vous allez bien. \nUne fois n’est pas coutume\, je vous présente une ascension en Vercors de la pointe du Pieu\, il s’agira d’une boucle au départ de ST PAUL DE VARCES. \n  \n \nPhoto prise en cette fin d’été 2024 au sommet du Pieu\, vu spéciale de Grenoble. \n  \nDifficultés :\nDifficulté intermédiaire/sportive\,  dénivelé 1000m jusqu’au sommet\, 14km de boucle. \nMatériel : Pensez bien à prendre des vêtements chauds\, bonnet\, écharpes et gants\, polaire\, pantalon et coupe vent ou imperméable et des bâtons pour vous aider si nécessaire.\n\n\nTransport : co-voiturage au départ de arrêt tram B : Marie Louise CEA\n \n\n\n1 ou 2 voitures si quelqu’un a le permis ou une voiture merci de me le faire savoir.\n\nRando sur une Journée : Départ Grenoble 9h00 retour vers 19h \nRepas :\n–  Je vous laisse apporter votre pique-nique et environ 2L d’eau suivant vos besoins.\n\n\n\n\nCoûts :\n– participation club aux encadrements : (5€/jour)\n– transport :\n* trajet en covoiturage : partage des frais (5€/personne )\n\n\n\n  \n\nInscription par commentaires ci-dessous\n\nActuellement 4 places disponibles. En attente d’un conducteur pour ajouter des places.\n\nN’hésites pas à poser une question en commentaire ci-dessous\n\nA bientôt ! \n\nValentin encadrant Bénévole
URL:https://www.grenoble-rando-universite.fr/event/samedi-30-novembre-pointe-du-pieu-vercors/
LOCATION:Vercors\, Les Clos\, Le Gua\, 38450\, France
CATEGORIES:Rando à pied
ATTACH;FMTTYPE=image/jpeg:https://www.grenoble-rando-universite.fr/wp-content/uploads/2024/11/20240817_145745-scaled.jpg
ORGANIZER;CN="Valentin":MAILTO:valentin.borel@gmail.com
END:VEVENT
END:VCALENDAR