BEGIN:VCALENDAR
VERSION:2.0
PRODID:-// - ECPv5.14.0.4//NONSGML v1.0//EN
CALSCALE:GREGORIAN
METHOD:PUBLISH
X-ORIGINAL-URL:https://www.grenoble-rando-universite.fr
X-WR-CALDESC:évènements pour 
BEGIN:VTIMEZONE
TZID:Europe/Paris
BEGIN:DAYLIGHT
TZOFFSETFROM:+0100
TZOFFSETTO:+0200
TZNAME:CEST
DTSTART:20210328T010000
END:DAYLIGHT
BEGIN:STANDARD
TZOFFSETFROM:+0200
TZOFFSETTO:+0100
TZNAME:CET
DTSTART:20211031T010000
END:STANDARD
END:VTIMEZONE
BEGIN:VEVENT
DTSTART;TZID=Europe/Paris:20210619T080000
DTEND;TZID=Europe/Paris:20210620T170000
DTSTAMP:20260419T192452
CREATED:20210608T212223Z
LAST-MODIFIED:20210616T120628Z
UID:6536-1624089600-1624208400@www.grenoble-rando-universite.fr
SUMMARY:19-20/06 We Rando Bivouac en éco-traversée avec le Parc de Chartreuse
DESCRIPTION:Pour ce we de fin d’année\, nous avons préparé un itinéraire original pour une incursion dans le Nord Chartreuse et sa réserve naturelle en accès mobilité douce. Nous aurons la chance d’avoir avec nous une partie du week-end un garde-animateur de la Réserve des Hauts de Chartreuse pour mieux découvrir l’environnement naturel et les enjeux de sa préservation. \nProgramme plus complet à venir ! \nInscriptions en commentaire à venir : à partir de vendredi 11 juin \nPermanence/Réunion d’organisation et de récupération du matériel : le jeudi 17 juin entre 18h et 19h au local Crous \nMatériel nécessaire : (à avoir ou à emprunter au club) \nTentes (possibilité de tester du matériel léger du club)\, matelas\, sac de couchage 5°C \n+ matériel de randonnée habituel \nCoût : \n10€ le week-end pour l’encadrement + contribution éventuelle de 5€ pour le we en cas de prêt de matériel (tente et/ou sac de couchage)\n+ tickets de bus \nRandonnée encadrée par un accompagnateur en montagne
URL:https://www.grenoble-rando-universite.fr/event/we-rando-bivouac-en-eco-traversee-avec-le-parc-de-chartreuse/
LOCATION:chartreuse
CATEGORIES:Rando à pied
ATTACH;FMTTYPE=image/jpeg:https://www.grenoble-rando-universite.fr/wp-content/uploads/2019/10/rando-bus-chartreuse-club-grenoble-universite-pas-montbrun-rocheplane-010.jpg
ORGANIZER;CN="Vincent%20Accompagnateur%20en%20Montagne":MAILTO:vincent.martinmasse+rando@gmail.com
END:VEVENT
END:VCALENDAR