BEGIN:VCALENDAR
VERSION:2.0
PRODID:-// - ECPv5.14.0.4//NONSGML v1.0//EN
CALSCALE:GREGORIAN
METHOD:PUBLISH
X-ORIGINAL-URL:https://www.grenoble-rando-universite.fr
X-WR-CALDESC:évènements pour 
BEGIN:VTIMEZONE
TZID:Europe/Paris
BEGIN:DAYLIGHT
TZOFFSETFROM:+0100
TZOFFSETTO:+0200
TZNAME:CEST
DTSTART:20200329T010000
END:DAYLIGHT
BEGIN:STANDARD
TZOFFSETFROM:+0200
TZOFFSETTO:+0100
TZNAME:CET
DTSTART:20201025T010000
END:STANDARD
END:VTIMEZONE
BEGIN:VEVENT
DTSTART;VALUE=DATE:20201017
DTEND;VALUE=DATE:20201018
DTSTAMP:20260422T214637
CREATED:20200903T081738Z
LAST-MODIFIED:20201015T092505Z
UID:5172-1602892800-1602979199@www.grenoble-rando-universite.fr
SUMMARY:17/10 Lac du Lauvitel (Oisans)  600m
DESCRIPTION:Itinéraire en boucle\, pour admirer ce joyau de l’Oisans \nPour atteindre le bout du lac\, ce sera sur un vague sentier un peu plus aventureux \nSentier caillouteux et un peu glissant : il faut des chaussures qui ne glissent pas\nPrévoir des vêtements chauds + Lunettes de soleil\nMasque obligatoire durant le trajet en voiture. \nRendez vous : 8h30 Station “Le Prisme” du tramway ligne C\nCoût : 5€   + covoiturage ( 30€ par voiture à partager ) \nInscription jusqu’à Vendredi 19h \, en laissant un commentaire\n– nom prénom\n– places de voiture (conducteur compris) \n*** COMPLET ***   (le quota de 10 personnes est atteint )
URL:https://www.grenoble-rando-universite.fr/event/traversee-col-menee-pas-essaure-800m/
CATEGORIES:Rando à pied
ATTACH;FMTTYPE=image/jpeg:https://www.grenoble-rando-universite.fr/wp-content/uploads/2019/09/20190530_lauvitel-e1568412894298.jpg
END:VEVENT
BEGIN:VEVENT
DTSTART;TZID=Europe/Paris:20201017T080000
DTEND;TZID=Europe/Paris:20201018T170000
DTSTAMP:20260422T214637
CREATED:20200907T232043Z
LAST-MODIFIED:20201008T105020Z
UID:5254-1602921600-1603040400@www.grenoble-rando-universite.fr
SUMMARY:17-18/10 Week-end Formation orientation autonomie
DESCRIPTION:Si vous voulez vous améliorer en orientation pour vos prochaines randos et emmener plus facilement des amis en montagne\, sortir des itinéraires balisés\, se retrouver même en cas de brouillard\,…\nCette formation peut aussi vous intéresser si vous voulez par la suite organiser des randos avec le club. \nWeek-end de formation pratique pour apprendre les bases de l’orientation en montagne avec une carte et une boussole.\nLe programme se fait sur le week-end avec une nuit en bivouac ou cabane (suivant météo et lieu). 800m de dénivelés par jour environ\nPlusieurs ateliers sont réalisés au fil de la randonnée\, parfois en grand groupe mais aussi par petits groupes\, en favorisant les échanges et partages d’expériences. \nCoût de la formation : 10€/jour soit 20€ le week-end\nles boussoles\, ainsi que le matériel de bivouac sont fournis si besoin\n+ partage des frais covoiturage ou tickets de bus ou train (de 10€ à 19€ suivant destination et mode de transport) \nInscriptions : 10 places environ\nEn commentaire ci-dessous en indiquant :  prénom\, nom\, si tu as une voiture\, si tu as une boussole\nUne petite réunion pour s’organiser aura lieu : à priori le mercredi 14 octobre à 18h30 (Parc Paul Mistral ou autre lieu autorisé suivant météo)
URL:https://www.grenoble-rando-universite.fr/event/week-end-formation-orientation-autonomie/
CATEGORIES:Rando à pied
ATTACH;FMTTYPE=image/jpeg:https://www.grenoble-rando-universite.fr/wp-content/uploads/2019/10/Formation-Rando-Orientation-Autonomie-Vercors-Alpes-Ecotourisme.eu-036.jpg
ORGANIZER;CN="Vincent%20Accompagnateur%20en%20Montagne":MAILTO:vincent.martinmasse+rando@gmail.com
END:VEVENT
END:VCALENDAR