BEGIN:VCALENDAR
VERSION:2.0
PRODID:-// - ECPv5.14.0.4//NONSGML v1.0//EN
CALSCALE:GREGORIAN
METHOD:PUBLISH
X-ORIGINAL-URL:https://www.grenoble-rando-universite.fr
X-WR-CALDESC:évènements pour 
BEGIN:VTIMEZONE
TZID:Europe/Paris
BEGIN:DAYLIGHT
TZOFFSETFROM:+0100
TZOFFSETTO:+0200
TZNAME:CEST
DTSTART:20210328T010000
END:DAYLIGHT
BEGIN:STANDARD
TZOFFSETFROM:+0200
TZOFFSETTO:+0100
TZNAME:CET
DTSTART:20211031T010000
END:STANDARD
END:VTIMEZONE
BEGIN:VEVENT
DTSTART;TZID=Europe/Paris:20210109T080000
DTEND;TZID=Europe/Paris:20210110T170000
DTSTAMP:20260424T104824
CREATED:20201007T195335Z
LAST-MODIFIED:20210102T010441Z
UID:5448-1610179200-1610298000@www.grenoble-rando-universite.fr
SUMMARY:09-10/01 Week-end Formation Neige "Préviens ton avalanche"
DESCRIPTION:Envie d’en savoir plus sur la prise en compte du risque d’avalanche pour aller randonner dans la neige ?  \nAu cours de la formation\, on verra au travers plusieurs ateliers comment faire une recherche avec le détecteur de victime d’avalanche (l’ARVA toujours associé à la Pelle et la Sonde) et s’organiser pour un secours\, mais également ce qui est tout aussi important\, comment éviter le plus possible l’avalanche\, grâce à ses choix d’itinéraires avant la sortie et sur le terrain\, en tenant compte du relief\, du bulletin d’avalanche\, de la lecture de carte\, de la neige\, de ses amis\,… \nLa formation se fera sous forme d’exercices pratiques et d’échanges entre les participants et les encadrants (1 accompagnateur en montagne et 1 encadrant bénévole). Le week-end sera aussi l’occasion de randonner ! \nSur le week-end\, nuit en cabane ou refuge non gardé. \nVoir le programme  \nCoût de la formation : \n20€ pour l’encadrement et le matériel raquettes et kit sécurité DVA-Pelle-Sonde\nPrêt possible de sacs de couchage par le club (+ matelas si nécessaire suivant le lieu choisi pour la nuit)\n10€ si tu as déjà tout le matériel \n+  prévoir entre 0€ et 10€ pour la cabane ou refuge\n+ partage des frais de covoiturage ou tickets de bus \nInscriptions : pré-inscriptions en commentaire (dans la limite des places disponibles)\, en indiquant : prénom\, nom\, si j’ai une voiture\, si  j’ai déjà DVA-Pelle-Sonde/des raquettes \nRéunion pour finaliser l’inscription\, s’organiser et récupérer le matériel à priori le jeudi 6 janvier 18h00 au local du club ou à proximité : \nBâtiment ESCAPE\n64 Avenue des Martyrs\n38000 Grenoble\nTram B arrêt CEA-Cambridge\nAccès en tram : 25 min depuis le Campus Saint Martin d’Hères / 10min depuis la gare de Grenoble / 15 min depuis Hubert Dubedout Maison du Tourisme\nhttps://www.crous-grenoble.fr/culturesportanimation/pole-animation/escape/
URL:https://www.grenoble-rando-universite.fr/event/09-10-01-week-end-formation-neige-previens-ton-avalanche/
CATEGORIES:Rando Raquettes
ATTACH;FMTTYPE=image/jpeg:https://www.grenoble-rando-universite.fr/wp-content/uploads/2019/12/sauver-vie-avalanche-formation.jpg
ORGANIZER;CN="Vincent%20Accompagnateur%20en%20Montagne":MAILTO:vincent.martinmasse+rando@gmail.com
END:VEVENT
END:VCALENDAR