BEGIN:VCALENDAR
VERSION:2.0
PRODID:-// - ECPv5.14.0.4//NONSGML v1.0//EN
CALSCALE:GREGORIAN
METHOD:PUBLISH
X-ORIGINAL-URL:https://www.grenoble-rando-universite.fr
X-WR-CALDESC:évènements pour 
BEGIN:VTIMEZONE
TZID:Europe/Paris
BEGIN:DAYLIGHT
TZOFFSETFROM:+0100
TZOFFSETTO:+0200
TZNAME:CEST
DTSTART:20210328T010000
END:DAYLIGHT
BEGIN:STANDARD
TZOFFSETFROM:+0200
TZOFFSETTO:+0100
TZNAME:CET
DTSTART:20211031T010000
END:STANDARD
END:VTIMEZONE
BEGIN:VEVENT
DTSTART;TZID=Europe/Paris:20210131T080000
DTEND;TZID=Europe/Paris:20210131T170000
DTSTAMP:20260422T182811
CREATED:20210127T182325Z
LAST-MODIFIED:20210128T204508Z
UID:5897-1612080000-1612112400@www.grenoble-rando-universite.fr
SUMMARY:31/01 rando raquette Belledonne (au Grand Rocher à priori)
DESCRIPTION:Si nous avons un stagiaire (ce qui devrait être probable) ou un étudiant avec une voiture nous irons faire le Grand Rocher dans Belledonne\, qui permet une belle vue sur le massif. Si nous n’avons pas de seconde voiture je devrais modifier la sortie pour qu’elle soit accessible en transport en commun (bus pour Saint Nizier du Moucherotte probablement\, et faire le Moucherotte en raquette). \nDénivelé : environ 500 m \nPas de difficulté technique \nPrévoir des vêtements chaud et imperméable\, un pantalon adapté pour la raquette\, bonnet\, gants\, lunette de soleil\, crème solaire. Pique nique et gourde d’un litre min. Un sac à dos 35L environ (il faut pouvoir rentrer la pelle et sonde dedans).  Nous vous fournissons raquette\, bâtons\, guêtres\, DVA\, pelle\, sonde. \nCoût de la sortie 5 € + 5€ si prêt de matériel quel que soit le matériel + prévoir de la monnaie pour le cout de covoiturage ! \nRDV dimanche matin 8h30 au parking du palais des sports\, en face du 3 av. Jeanne d’Arc\, proche du stade des Alpes (accessible tramway arrêt Flandrin Valmy) \nPetite précision je m’occupe personnellement de récupérer le matériel nécessaire\, pas besoin de venir à la perm de jeudi \nSi vous avez des questions vous pouvez me joindre (sms privilégiés) au 0628684235 \nInscriptions : en commentaire dans la limite des places disponible (8) \n \n 
URL:https://www.grenoble-rando-universite.fr/event/30-01-rando-raquette-belledonne-au-grand-rocher-si-deuxieme-voiture/
CATEGORIES:Rando Raquettes
ATTACH;FMTTYPE=image/jpeg:https://www.grenoble-rando-universite.fr/wp-content/uploads/2021/01/DSC02717.jpg
END:VEVENT
END:VCALENDAR