BEGIN:VCALENDAR
VERSION:2.0
PRODID:-// - ECPv5.14.0.4//NONSGML v1.0//EN
CALSCALE:GREGORIAN
METHOD:PUBLISH
X-ORIGINAL-URL:https://www.grenoble-rando-universite.fr
X-WR-CALDESC:évènements pour 
BEGIN:VTIMEZONE
TZID:Europe/Paris
BEGIN:DAYLIGHT
TZOFFSETFROM:+0100
TZOFFSETTO:+0200
TZNAME:CEST
DTSTART:20210328T010000
END:DAYLIGHT
BEGIN:STANDARD
TZOFFSETFROM:+0200
TZOFFSETTO:+0100
TZNAME:CET
DTSTART:20211031T010000
END:STANDARD
END:VTIMEZONE
BEGIN:VEVENT
DTSTART;VALUE=DATE:20211002
DTEND;VALUE=DATE:20211003
DTSTAMP:20260422T192934
CREATED:20210915T200147Z
LAST-MODIFIED:20250221T190032Z
UID:7164-1633132800-1633219199@www.grenoble-rando-universite.fr
SUMMARY:[COMPLET] Samedi 2 oct: Arche à l'Aiguille (800m)
DESCRIPTION:Rando réservée aux adhérents du club \nC’est toujours avec un grand plaisir que j’organise cette rando pour découvrir ce petit bijou caché dans le secteur de la Dent de Crolles … \nParcours ludique: passages de câbles faciles ( à la montée et à la descente) \, petits passages rocheux où on met un peu les mains\nIl est indispensable d’avoir des chaussures qui ne glissent pas. \nEffort physique: moyen ( 800m de dénivelé ) Rythme tranquille\, on monte  400m de dénivelé à l’heure\nDifficulté technique : moyen ( passages de cables\, cailloux glissants à la descente) Cette rando ne convient pas aux personnes qui ont trop fortement le vertige \nEquipement:\nL’été est fini!  Gants/Bonnet ne sont pas un luxe\, surtout le matin ….  Polaire\, coupe vent\, lunettes de soleil\, 1\,5l d’eau \, picnic\nprenez une eco-cup si vous avez ( on n’est pas à l’abri d’une petite surprise )\nMasque obligatoire durant le trajet en voiture. \nRendez vous : 8h30 Station « Condillac-Universités» du tramway \, sur le campus\nCoût : 5€ + covoiturage ( entre 4€ et 5€ ) . Prenez de la monnaie ! \nInscription jusqu’à Vendredi 19h \, en laissant un commentaire\n– nom prénom\n– places de voiture (conducteur compris) \nJe mettrai sur le site la liste finale des inscrits \nGroupe limité à 9 participants en plus de l’encadrant . Rando organisée par un encadrant bénévole.
URL:https://www.grenoble-rando-universite.fr/event/samedi-2-oct-arche-a-laiguille/
CATEGORIES:Rando à pied
ATTACH;FMTTYPE=image/jpeg:https://www.grenoble-rando-universite.fr/wp-content/uploads/2021/09/20210908_145827z.jpg
END:VEVENT
BEGIN:VEVENT
DTSTART;TZID=Europe/Paris:20211002T080000
DTEND;TZID=Europe/Paris:20211002T170000
DTSTAMP:20260422T192934
CREATED:20210928T110530Z
LAST-MODIFIED:20211210T104050Z
UID:7247-1633161600-1633194000@www.grenoble-rando-universite.fr
SUMMARY:Samedi 02/10 - Rando-bus au Pas du Serpaton avec la LPO - Vercors
DESCRIPTION:Le Pas du Serpaton depuis Monestier\nAvec Julien Milli – Ligue de Protection des Oiseaux Isère\nNiveau Moyen\nRDV de départ 7h50 devant la Gare de Grenoble – Accès en train \nCoût : 3€ dans le cadre de l’événement J’Peux Pas J’ai Rando\nLes billets de train sont prévus par le club \nDernière minute ! \nIl reste 1 place : inscription en publiant un commentaire en bas de la page avec ton nom\, prénom\, numéro de tel… avant 20h
URL:https://www.grenoble-rando-universite.fr/event/3-octobre-rando-bus-au-pas-du-serpaton-avec-la-lpo/
CATEGORIES:Rando à pied
ATTACH;FMTTYPE=image/jpeg:https://www.grenoble-rando-universite.fr/wp-content/uploads/2021/09/pas-serpaton-vercors.jpg
END:VEVENT
BEGIN:VEVENT
DTSTART;TZID=Europe/Paris:20211002T140000
DTEND;TZID=Europe/Paris:20211002T170000
DTSTAMP:20260422T192934
CREATED:20210929T201513Z
LAST-MODIFIED:20211210T104123Z
UID:7312-1633183200-1633194000@www.grenoble-rando-universite.fr
SUMMARY:Samedi 02/10 - Rando Etang de Jarrie
DESCRIPTION:La Réserve naturelle régionale de l’Etang de Jarrie depuis Echirolles\nNiveau Découverte facile\nEncadrante : Anaïs Guilleux – RDV de départ 14h Tram A Echirolles Denis Papin  \n\nIl reste de la place : ajoute un commentaire en bas de la page pour t’inscrire avec ton nom\, prénom\, numéro de téléphone
URL:https://www.grenoble-rando-universite.fr/event/samedi-02-10-rando-etang-de-jarrie/
CATEGORIES:Rando à pied
ATTACH;FMTTYPE=image/jpeg:https://www.grenoble-rando-universite.fr/wp-content/uploads/2021/09/RNR-Jarrie.jpg
END:VEVENT
END:VCALENDAR