BEGIN:VCALENDAR
VERSION:2.0
PRODID:-// - ECPv5.14.0.4//NONSGML v1.0//EN
CALSCALE:GREGORIAN
METHOD:PUBLISH
X-ORIGINAL-URL:https://www.grenoble-rando-universite.fr
X-WR-CALDESC:évènements pour 
BEGIN:VTIMEZONE
TZID:Europe/Paris
BEGIN:DAYLIGHT
TZOFFSETFROM:+0100
TZOFFSETTO:+0200
TZNAME:CEST
DTSTART:20220327T010000
END:DAYLIGHT
BEGIN:STANDARD
TZOFFSETFROM:+0200
TZOFFSETTO:+0100
TZNAME:CET
DTSTART:20221030T010000
END:STANDARD
END:VTIMEZONE
BEGIN:VEVENT
DTSTART;VALUE=DATE:20220901
DTEND;VALUE=DATE:20230101
DTSTAMP:20260421T142917
CREATED:20220915T204246Z
LAST-MODIFIED:20220915T212146Z
UID:9435-1661990400-1672531199@www.grenoble-rando-universite.fr
SUMMARY:Planning prévisionnel Septembre-Décembre 2022
DESCRIPTION:Voir le planning des sorties prévisionnelles de Septembre à Décembre 2022
URL:https://www.grenoble-rando-universite.fr/event/planning-previsionnel-septembre-decembre-2022/
CATEGORIES:Rando à pied,Rando Raquettes
ATTACH;FMTTYPE=image/jpeg:https://www.grenoble-rando-universite.fr/wp-content/uploads/2022/09/rando-vercors-correncon.jpg
END:VEVENT
BEGIN:VEVENT
DTSTART;TZID=Europe/Paris:20221001T080000
DTEND;TZID=Europe/Paris:20221002T170000
DTSTAMP:20260421T142917
CREATED:20220917T072101Z
LAST-MODIFIED:20220917T073548Z
UID:9443-1664611200-1664730000@www.grenoble-rando-universite.fr
SUMMARY:01-02/10 Grand Parcours Randonnée Trièves/dévoluy
DESCRIPTION:Le Comité Isère des Clubs Alpins et de Montagne organise la 7ème édition du “Grand Parcours Randonnée”. Cet événement se déroulera à Tréminis\, au cœur du Trièves les 1° et 2 octobre 2022. Il permettra à ses participants de progresser dans cette activité sportive aux multiples facettes\, dans un territoire attachant au pied du Dévoluy. \nCe Grand Parcours propose à tout public (licenciés FFCAM ou non à partir de 12 ans)\, des randonnées pédestres encadrées par des bénévoles expérimentés\, ainsi que l’apprentissage des techniques de progression spécifiques: \nRandonnée sur sentier de montagne\, marche nordique\, randonnées à thème\, randonnée d’accompagnement de personnes handicapées avec joëlette. \nCet événement\, labellisé par la Fédération Française des Clubs Alpins et de Montagne (FFCAM)\, garantit un rassemblement convivial et favorise la découverte d’un territoire isérois de montagne. \n– Lieu : village de Tréminis (salle des fêtes de Tréminis l’Eglise\, hameau Château Bas)\n– Tarif : 35 € / personne comprend l’inscription aux ateliers\, l’encadrement des randonnées\, la soirée festive (animations et concert)\, le repas du samedi soir\, les pots d’arrivée et de départ.\nLa prestation ne comprend pas l’hébergement\, les repas autres que le samedi soir\, le matériel\nindividuel nécessaire. \nPour les parcours\, deux niveaux seront proposés :\n● Découverte : vous avez une bonne forme physique\, vous randonnez un peu en montagne et\nsouhaitez gagner en autonomie en vous formant au secourisme\, à la cartographie\, à l’utilisation de la\ncorde et à l’observation du milieu naturel.\n● Progression : vous avez une bonne condition physique\, vous savez lire une carte et vous souhaitez\nprogresser dans les techniques de randonnée sur sentier ou hors sentiers. \nInscriptions : vu.fr/GPRando2022 \nToutes les informations ici
URL:https://www.grenoble-rando-universite.fr/event/01-02-10-grand-parcours-randonnee-trieves-devoluy/
CATEGORIES:Evènement,Formation,Rando à pied
ATTACH;FMTTYPE=image/jpeg:https://www.grenoble-rando-universite.fr/wp-content/uploads/2022/09/grand-parcours-randonnee-club-alpin-isere-trieve-devoluy.jpg
END:VEVENT
BEGIN:VEVENT
DTSTART;TZID=Europe/Paris:20221002T083000
DTEND;TZID=Europe/Paris:20221002T180000
DTSTAMP:20260421T142917
CREATED:20220908T213848Z
LAST-MODIFIED:20220928T173921Z
UID:9303-1664699400-1664733600@www.grenoble-rando-universite.fr
SUMMARY:[COMPLET] Dimanche 2 Oct : Fabuleuses Falaises de Fond d'Urle (600m) Vercors
DESCRIPTION:*** Falaises de Fond d’Urle : COMPLET *** \nJe vous propose un voyage au bout du monde\, dans le Sud Vercors\, là où les falaises s’écroulent dans les collines du Diois\nDépart du Col de la Chau\, petit sommet pour admirer un panorama à 360° \,  cheminement  avec vues grandioses le long de la ligne de falaises\, et visite de petites curiosités géologiques \nNiveau Découverte . Dénivelé 600m \nEquipement\nLunettes de soleil\, crême solaire\, coupe vent\, polaire\,picnic \, 1\,5L d’eau\nBonnet/gants ( il fait froid le matin )\nil faut des chaussures qui ne glissent pas . \nCoût : 5 €  + covoiturage 9€   paiement le jour de la rando (prenez de la monnaie) \nRendez vous : 8h30 Station “Le Prisme” du tramway ligne C\n( attention : le dimanche \, il y a 20mn entre 2 tramway C  …. ) \nInscription jusqu’à Vendredi 19h \, en laissant un commentaire\n– nom prénom\n– si vous avez une voiture : nombre de places (conducteur compris) \nGroupe limité à 2 voitures \nJe mettrai sur le site la liste finale des inscrits \n 
URL:https://www.grenoble-rando-universite.fr/event/oct2022-fond-durle/
CATEGORIES:Rando à pied
ATTACH;FMTTYPE=image/jpeg:https://www.grenoble-rando-universite.fr/wp-content/uploads/2022/09/20220806_110651z-scaled.jpg
END:VEVENT
BEGIN:VEVENT
DTSTART;TZID=Europe/Paris:20221002T084000
DTEND;TZID=Europe/Paris:20221002T180000
DTSTAMP:20260421T142917
CREATED:20220917T090929Z
LAST-MODIFIED:20220927T175953Z
UID:9459-1664700000-1664733600@www.grenoble-rando-universite.fr
SUMMARY:[COMPLET] 02/10 La Dent de Crolles en Chartreuse (sportif/technique)
DESCRIPTION:Bonjour ! \nJe propose une randonnée incontournable en Chartreuse sur un sommet caractéristique : la Dent de Crolles (2062m) en boucle par le Pas de l’Oeille et le Trou du glaz. \nNiveau : sportif et technique. \nL’itinéraire fait 13 km et 1180d+. Le passage du Pas de l’oeille nécessite l’usage des mains (court passage avec des câbles). \nDépart de l’arrêt Grand Sablon La Tronche à 8h57 pour prendre le car région. Prévoir d’être à l’heure de rendez-vous à 8h40. Cet arrêt est desservi depuis Grenoble en 15-20 minutes (vérifiez les horaires). Retour par le même bus en fin d’après-midi. \nInscriptions et paiement : via helloasso (https://www.helloasso.com/associations/alpes-la/evenements/journee-rando-dimanche-2-octobre-2022). 10 personnes maxi. \nJ’enverrai un email ensuite aux participants incluant tous les détails ainsi que le lien pour payer en ligne \n(merci de procéder au paiement avant vendredi soir\, ou de prévenir si vous ne pouvez pas\, afin que je puisse inclure d’autres personnes sinon). \nTicket de bus : trajet aller-retour en car région (tarif réduit possible en achetant une carte 6 trajets). \nMatériel à prévoir : sac à dos\, chaussures de marche à semelle non-lisse\, tenue adaptée à la randonnée\, eau 1\,5L\, pique-nique\, barres de céréales ou fruits secs\, chapeau\, lunettes de soleil\, veste de pluie\, polaire/doudoune\, gants\, bâtons de randonnée (optionnel)\, ticket bus. \nAnaïs \n 
URL:https://www.grenoble-rando-universite.fr/event/02-10-la-dent-de-crolles-chartreuse/
CATEGORIES:Rando à pied
ATTACH;FMTTYPE=image/jpeg:https://www.grenoble-rando-universite.fr/wp-content/uploads/2022/09/dent-crolles.jpg
ORGANIZER;CN="Ana%C3%AFs%20accompagnatrice%20en%20montagne":MAILTO:anais.legras@protonmail.com
END:VEVENT
END:VCALENDAR