BEGIN:VCALENDAR
VERSION:2.0
PRODID:-// - ECPv5.14.0.4//NONSGML v1.0//EN
CALSCALE:GREGORIAN
METHOD:PUBLISH
X-ORIGINAL-URL:https://www.grenoble-rando-universite.fr
X-WR-CALDESC:évènements pour 
BEGIN:VTIMEZONE
TZID:Europe/Paris
BEGIN:DAYLIGHT
TZOFFSETFROM:+0100
TZOFFSETTO:+0200
TZNAME:CEST
DTSTART:20220327T010000
END:DAYLIGHT
BEGIN:STANDARD
TZOFFSETFROM:+0200
TZOFFSETTO:+0100
TZNAME:CET
DTSTART:20221030T010000
END:STANDARD
END:VTIMEZONE
BEGIN:VEVENT
DTSTART;VALUE=DATE:20220901
DTEND;VALUE=DATE:20230101
DTSTAMP:20260422T015522
CREATED:20220915T204246Z
LAST-MODIFIED:20220915T212146Z
UID:9435-1661990400-1672531199@www.grenoble-rando-universite.fr
SUMMARY:Planning prévisionnel Septembre-Décembre 2022
DESCRIPTION:Voir le planning des sorties prévisionnelles de Septembre à Décembre 2022
URL:https://www.grenoble-rando-universite.fr/event/planning-previsionnel-septembre-decembre-2022/
CATEGORIES:Rando à pied,Rando Raquettes
ATTACH;FMTTYPE=image/jpeg:https://www.grenoble-rando-universite.fr/wp-content/uploads/2022/09/rando-vercors-correncon.jpg
END:VEVENT
BEGIN:VEVENT
DTSTART;TZID=Europe/Paris:20221008T080000
DTEND;TZID=Europe/Paris:20221009T170000
DTSTAMP:20260422T015522
CREATED:20220908T213105Z
LAST-MODIFIED:20220921T220521Z
UID:9298-1665216000-1665334800@www.grenoble-rando-universite.fr
SUMMARY:08-09/10 Formation Orientation et autonomie en montagne WE1
DESCRIPTION:[Inscriptions ouvertes en commentaires ] \nSi vous voulez vous améliorer en orientation pour vos prochaines randos et emmener plus facilement des amis en montagne\, sortir des itinéraires balisés\, se retrouver même en cas de brouillard\,…\nCette formation peut aussi vous intéresser si vous voulez par la suite organiser des randos avec le club.\nElle se déroule sur un cycle de 2 Week-ends.\nLa participation aux 2 Week-ends est fortement recommandée (il est néanmoins possible de ne faire que le 1er week-end si vous n’êtes pas disponible au 2ème) \n\n\nLes dates :\n\n\n\n08-09 octobre (Sud Vercors à priori)\n22-23 octobre (Dévoluy à priori)\n\nLors de ce premier week-end\, nous verrons les bases de l’orientation en montagne avec carte\, boussole… sans oublier le terrain !\nVoici un aperçu du week-end de l’année passée (WE1) \n\nLe programme se fait sur le week-end avec une nuit en bivouac ou cabane (suivant météo et lieu). 800m de dénivelés par jour environ\nPlusieurs ateliers sont réalisés au fil de la randonnée\, parfois en grand groupe mais aussi par petits groupes\, en favorisant les échanges et partages d’expériences. \nCoût : \n\n10€/WE (comprend le prêt de matériel si nécessaire) : boussoles\, matériel de bivouac fournis (matelas\, sac de couchage\, et éventuellement tarp ou tente suivant le lieu confirmé et la météo)\n+ partage des frais covoiturage ou tickets de bus (de 10€ environ)\nLes frais d’inscription vous seront remboursés si vous encadrez au moins 2 randonnées pour le club dans l’année \n\nEncadrement : Vincent\, accompagnateur en montagne + autre encadrant \nInscriptions : 10 places \nEn commentaire ci-dessous en indiquant :  prénom\, nom\, si tu as une voiture\, si tu as une boussole\, et si tu as besoin de matériel de bivouac (matelas\, sac de couchage 5°C Confort ou mieux)\nUne rapide réunion pour donner plus d’infos et s’organiser aura lieu : le jeudi 06 octobre de 18h30 à 19h
URL:https://www.grenoble-rando-universite.fr/event/08-09-10-formation-orientation-et-autonomie-en-montagne-we1/
CATEGORIES:Formation
ATTACH;FMTTYPE=image/jpeg:https://www.grenoble-rando-universite.fr/wp-content/uploads/2019/10/Formation-Rando-Orientation-Autonomie-Vercors-Alpes-Ecotourisme.eu-036.jpg
END:VEVENT
BEGIN:VEVENT
DTSTART;TZID=Europe/Paris:20221009T090000
DTEND;TZID=Europe/Paris:20221009T170000
DTSTAMP:20260422T015522
CREATED:20220919T143449Z
LAST-MODIFIED:20250221T184434Z
UID:9475-1665306000-1665334800@www.grenoble-rando-universite.fr
SUMMARY:[**CHANGEMENT DE LIEU**] 09/10 Arche à l'Aiguille (Chartreuse) 800m
DESCRIPTION:================== Changement de lieu … voir commentaires =================== \nBonjour ! \nJe vous propose de découvrir ce petit bijou caché dans le secteur de la Dent de Crolles …\nAprès la visite de l’Arche : picnic/sieste \, puis traversée du lapiaz jusqu’au sommet. Peut être verra t’on quelques chamois … \nParcours ludique: passages de câbles faciles ( à la montée et à la descente) \, petits passages rocheux où on met un peu les mains\nIl est indispensable d’avoir des chaussures qui ne glissent pas. \nNiveau : Intermédiaire\nEffort physique: moyen ( 800m de dénivelé )\nDifficulté technique : moyen ( passages de câbles faciles) \nEquipement:\nPolaire\, coupe vent\, crême solaire\, lunettes de soleil\, 1\,5l d’eau \, picnic\nGants\, bonnet ( il fait froid le matin\, et on risque toujours d’avoir du vent au sommet )\nLes bâtons sont utiles (je peux en prêter quelques uns) \nCoût : 5€ +  4€ covoiturage ( prenez de la monnaie ) \nRendez vous :\n9h00  Station Condillac-Universités du Tramway\n \nInscription:  ( COMPLET  )  en laissant un commentaire:\n– nom\, prénom\n– places de voiture ( conducteur compris )\n– si vous avez des bâtons \nGroupe limité à 2 voitures ( il en faudra une en plus de la mienne ) \n 
URL:https://www.grenoble-rando-universite.fr/event/arche-aiguille-chartreuse-800m/
CATEGORIES:Rando à pied
ATTACH;FMTTYPE=image/jpeg:https://www.grenoble-rando-universite.fr/wp-content/uploads/2022/06/20210908_145827z.jpg
END:VEVENT
END:VCALENDAR