BEGIN:VCALENDAR
VERSION:2.0
PRODID:-// - ECPv5.14.0.4//NONSGML v1.0//EN
CALSCALE:GREGORIAN
METHOD:PUBLISH
X-ORIGINAL-URL:https://www.grenoble-rando-universite.fr
X-WR-CALDESC:évènements pour 
BEGIN:VTIMEZONE
TZID:Europe/Paris
BEGIN:DAYLIGHT
TZOFFSETFROM:+0100
TZOFFSETTO:+0200
TZNAME:CEST
DTSTART:20220327T010000
END:DAYLIGHT
BEGIN:STANDARD
TZOFFSETFROM:+0200
TZOFFSETTO:+0100
TZNAME:CET
DTSTART:20221030T010000
END:STANDARD
END:VTIMEZONE
BEGIN:VEVENT
DTSTART;VALUE=DATE:20220901
DTEND;VALUE=DATE:20230101
DTSTAMP:20260423T023055
CREATED:20220915T204246Z
LAST-MODIFIED:20220915T212146Z
UID:9435-1661990400-1672531199@www.grenoble-rando-universite.fr
SUMMARY:Planning prévisionnel Septembre-Décembre 2022
DESCRIPTION:Voir le planning des sorties prévisionnelles de Septembre à Décembre 2022
URL:https://www.grenoble-rando-universite.fr/event/planning-previsionnel-septembre-decembre-2022/
CATEGORIES:Rando à pied,Rando Raquettes
ATTACH;FMTTYPE=image/jpeg:https://www.grenoble-rando-universite.fr/wp-content/uploads/2022/09/rando-vercors-correncon.jpg
END:VEVENT
BEGIN:VEVENT
DTSTART;TZID=Europe/Paris:20221022T000000
DTEND;TZID=Europe/Paris:20221022T000000
DTSTAMP:20260423T023055
CREATED:20221021T101305Z
LAST-MODIFIED:20221021T144743Z
UID:9629-1666396800-1666396800@www.grenoble-rando-universite.fr
SUMMARY:[Annulée] Randonnée ce samedi 22/10 : le Vallon de la Fauge
DESCRIPTION:Bonjour\, \nRandonnée ce samedi 22 dans le massif du Vercors. \n  \n– Itinéraire : \nChemin en forêt et clairière\, itinéraire en boucle. Niveau facile\, 300m de dénivelée et 6 km\, allongeable selon l’envie et la météo. \nMétéo annoncée variable\, il va sans doute pleuvoir le matin et le ciel devrait se dégager l’après midi. \n  \n– Équipement : \n– chaussures  de marche (montantes et imperméables de préférence) \n– bâtons de marche (facultatif) \n– pull bien chaud\, veste de pluie\, pantalon de pluie si vous avez\, sinon pantalon de rechange dans le sac \n– lunettes de soleil\, bonnet ou chapeau \n– sac à dos de 15L au moins \n– Pique-nique\, \n– 1L d’eau \n  \n– Repas : Prévoir un pique-nique pour le midi + si envie un grignotage à partager. \n  \n– Rendez-vous : à 9h55 à la gare routière de Grenoble\, nous prendrons le bus de la ligne t65 à destination de Villard de Lans\, départ du bus à 10h10. Retour prévu à 16h10 ou 17h35 selon le bus que l’on prend. \n  \n– Tarif : \n\n5€ pour la participation à l’encadrement à régler lors de l’inscription.\n5€ pour le ticket de bus à me donner samedi\, je fournirai les tickets samedi matin.\n\n\n– Inscription : Envoyez-moi un mail pour me confirmer votre présence. vous me donnerez le règlement en monnaie samedi. \n  \nEloi Chabaud\, accompagnateur en montagne pour le club rando \nContact : chabaud.eloi@gmail.com / 07 81 18 36 33
URL:https://www.grenoble-rando-universite.fr/event/randonnee-ce-samedi-22-10-le-vallon-de-la-fauge/
END:VEVENT
BEGIN:VEVENT
DTSTART;TZID=Europe/Paris:20221022T080000
DTEND;TZID=Europe/Paris:20221023T170000
DTSTAMP:20260423T023055
CREATED:20220908T213422Z
LAST-MODIFIED:20250221T184355Z
UID:9300-1666425600-1666544400@www.grenoble-rando-universite.fr
SUMMARY:22-23/10 Formation Orientation et autonomie en montagne WE2
DESCRIPTION:Si vous voulez vous améliorer en orientation pour vos prochaines randos et emmener plus facilement des amis en montagne\, sortir des itinéraires balisés\, se retrouver même en cas de brouillard\,…\nCette formation peut aussi vous intéresser si vous voulez par la suite organiser des randos avec le club.\nElle se déroule sur un cycle de 2 Week-ends.\nLa participation aux 2 Week-ends est fortement recommandée (il est néanmoins possible de ne faire que le 1er week-end si vous n’êtes pas disponible au 2ème) \n\n\nLes dates :\n\n\n\n08-09 octobre (Sud Vercors à priori) => Inscriptions ouvertes\n22-23 octobre (Dévoluy à priori) => Inscriptions pas encore ouvertes (priorité aux inscrits du 1er week-end)\n\nLors de ce 2ème week-end\, nous approfondirons les bases de l’orientation en montagne (carte\, boussole\, altitude\, GPS)\, du choix de son itinéraire et de l’organisation d’une rando.\nVoici un aperçu du week-end de l’année passée (WE2) \n\nLe programme se fait sur le week-end avec une nuit en bivouac ou cabane (suivant météo et lieu). 800m de dénivelés par jour environ\nPlusieurs ateliers sont réalisés au fil de la randonnée\, parfois en grand groupe mais aussi par petits groupes\, en favorisant les échanges et partages d’expériences. \nCoût : \n\n10€/WE (comprend le prêt de matériel si nécessaire) : boussoles\, matériel de bivouac fournis (matelas\, sac de couchage\, et éventuellement tarp ou tente suivant le lieu confirmé et la météo)\n+ partage des frais covoiturage ou tickets de bus (de 10€ environ)\nLes frais d’inscription vous seront remboursés si vous encadrez au moins 2 randonnées pour le club dans l’année \n\nEncadrement : Vincent\, accompagnateur en montagne + autre encadrant \nInscriptions : 10 places environ \nEn commentaire ci-dessous en indiquant :  prénom\, nom\, si tu as une voiture\, si tu as une boussole\, et si tu as besoin de matériel de bivouac (matelas\, sac de couchage 5°C Confort ou mieux)\nUne réunion de préparation pour organiser le week-end et construire ensemble le programme du week-end aura lieu : le jeudi 20 octobre de 18h30 à 19h30
URL:https://www.grenoble-rando-universite.fr/event/22-23-10-formation-orientation-et-autonomie-en-montagne-we2/
CATEGORIES:Formation
ATTACH;FMTTYPE=image/jpeg:https://www.grenoble-rando-universite.fr/wp-content/uploads/2021/12/P1780480-1.jpg
END:VEVENT
END:VCALENDAR