BEGIN:VCALENDAR
VERSION:2.0
PRODID:-// - ECPv5.14.0.4//NONSGML v1.0//EN
CALSCALE:GREGORIAN
METHOD:PUBLISH
X-ORIGINAL-URL:https://www.grenoble-rando-universite.fr
X-WR-CALDESC:évènements pour 
BEGIN:VTIMEZONE
TZID:UTC
BEGIN:STANDARD
TZOFFSETFROM:+0000
TZOFFSETTO:+0000
TZNAME:UTC
DTSTART:20250101T000000
END:STANDARD
END:VTIMEZONE
BEGIN:VEVENT
DTSTART;TZID=UTC:20250331T183000
DTEND;TZID=UTC:20250331T200000
DTSTAMP:20260423T043230
CREATED:20250326T104957Z
LAST-MODIFIED:20250326T105022Z
UID:14526-1743445800-1743451200@www.grenoble-rando-universite.fr
SUMMARY:31/03 Lundi à 18h – Conférence Versant d’Avenir à l’Université de Grenoble
DESCRIPTION:Le lundi 31 Mars 2025 de 18h à 20h\, venez assister à la Conférence de l’Association étudiante : Versant d’Avenir ! \nL’association Alpes Là interviendra au côté d’autres intervenants pour partager autour de sa vision de l’avenir des pratiques en montagne et des activités et services qu’elle propose pour réduire son impact sur l’environnement. \nLa problématique : Dans une dimension écologique\, est-il possible de continuer de promouvoir et sensibiliser aux sports de montagne ? \n7 Intervenants seront présents pour échanger et débattre sur ce sujet (Vice président de Mountain Wilderness\, Représentant Mammut France\, Professionels de la montagne\, Président de la station de Gresse en Vercors\, Représentant Alpes-Là\, Représentant Protect our winter). \nVous pourrez bénéficier d’un temps d’échange sur ce sujet autour d’un buffet dans le Hall du batîment Stendhal à la suite de la conférence. \nL’inscription est gratuite\, cependant\, vous pouvez faire un don à l’association Versant d’Avenir pour soutenir nos évènements : https://www.helloasso.com/associations/versant-d-avenir/formulaires/1
URL:https://www.grenoble-rando-universite.fr/event/31-03-lundi-a-18h-conference-versant-davenir-a-luniversite-de-grenoble/
LOCATION:Campus Saint Martin d’Hères
CATEGORIES:Evènement
ATTACH;FMTTYPE=image/jpeg:https://www.grenoble-rando-universite.fr/wp-content/uploads/2025/03/conference-versant-avenir-universite-grenoble.jpg
END:VEVENT
END:VCALENDAR