BEGIN:VCALENDAR
VERSION:2.0
PRODID:-// - ECPv5.14.0.4//NONSGML v1.0//EN
CALSCALE:GREGORIAN
METHOD:PUBLISH
X-ORIGINAL-URL:https://www.grenoble-rando-universite.fr
X-WR-CALDESC:évènements pour 
BEGIN:VTIMEZONE
TZID:UTC
BEGIN:STANDARD
TZOFFSETFROM:+0000
TZOFFSETTO:+0000
TZNAME:UTC
DTSTART:20250101T000000
END:STANDARD
END:VTIMEZONE
BEGIN:VEVENT
DTSTART;TZID=UTC:20250405T063000
DTEND;TZID=UTC:20250405T113000
DTSTAMP:20260423T043150
CREATED:20250402T070856Z
LAST-MODIFIED:20250403T221939Z
UID:14646-1743834600-1743852600@www.grenoble-rando-universite.fr
SUMMARY:Samedi 5/04 sortie ornithologique\, les chants d'oiseaux de moyenne montagne
DESCRIPTION:Bonjour\, \nvenez écouter\, à l’aube naissante\, le chants des oiseaux au printemps en coeur de Chartreuse\, c’est un concert envoutant et irrémédiablement captivant. \nCe sera l’occasion pour vous d’apprendre à reconnaître les chants d’une dizaine d’oiseaux de montagne. \nNous partirons tôt car les oiseaux… ne nous attendront pas! \nMais du coup\, nous rentrerons tôt\, ce sera une sortie à la demie journée. \nDépart : 6h30 à l’arrêt de tram Hôtel de ville Grenoble \nRetour: 11 heures 30 à Grenoble \nDénivelé: 300 mètres max. \nMatériel: vêtements très chauds\, gants\, chaussures tout terrain (il y a de la boue)\, jumelles si vous en avez. \nCoût: 3 euros pour le club (rando. demi-journée) + 7 euros co-voiturage. \nLa rando sera confirmée s’il y a au moins 3 participants. \nInscrivez-vous ci-dessous avec votre nom\, prénom. \nEmmanuel
URL:https://www.grenoble-rando-universite.fr/event/sortie-ornithologique-les-chants-doiseaux-de-moyenne-montagne/
LOCATION:chartreuse
CATEGORIES:Rando à pied
ATTACH;FMTTYPE=image/jpeg:https://www.grenoble-rando-universite.fr/wp-content/uploads/2025/04/traquet.brun_.lape_.1p.jpg
END:VEVENT
END:VCALENDAR