BEGIN:VCALENDAR
VERSION:2.0
PRODID:-// - ECPv5.14.0.4//NONSGML v1.0//EN
CALSCALE:GREGORIAN
METHOD:PUBLISH
X-ORIGINAL-URL:https://www.grenoble-rando-universite.fr
X-WR-CALDESC:évènements pour 
BEGIN:VTIMEZONE
TZID:UTC
BEGIN:STANDARD
TZOFFSETFROM:+0000
TZOFFSETTO:+0000
TZNAME:UTC
DTSTART:20250101T000000
END:STANDARD
END:VTIMEZONE
BEGIN:VEVENT
DTSTART;TZID=UTC:20250608T093000
DTEND;TZID=UTC:20250608T093000
DTSTAMP:20260423T014537
CREATED:20250603T164719Z
LAST-MODIFIED:20250603T205425Z
UID:14959-1749375000-1749375000@www.grenoble-rando-universite.fr
SUMMARY:Dimanche 08/06 - Habert des Sabottes en Belledonne
DESCRIPTION:Bonjour tout le monde\, \nJe vous propose une randonnée de niveau facile / intermédiaire en Belledonne\, vers le refuge du Pré du Mollard et le habert des Sabottes. Une petite dizaine de kilomètres et 600m à monter\, tranquillement\, pour profiter de la forêt et des landes alpines. \nOn ira en voiture au point de départ\, j’ai 4 places dans la voiture\, si quelqu’un a une autre voiture\, nous pourrons être plus nombreux de la partie. \nDifficulté :\nFacile – moyenne\n\n\nMatériel : chaussures de marche\, casquette ou chapeau\, crème solaire\, lunettes de soleil\, eau (au moins 1L). Ayez aussi un K-way dans le sac et une couche plus chaude au cas où (il peut vite faire frais en montagne). Éventuellement des bâtons.\n\n\nTransport : co-voiturage au départ de l’arrêt “Domène Maire” du bus C15 (le bus part de Verdun Préfecture et passe aussi proche du campus\, devant la clinique Belledonne).  Horaires du bus : https://www.reso-m.fr/ftp/fiche_horaires/fiche_horaires_2014/HORAIRES_15.pdf\n\n\nRDV de départ : Départ à 9h30 de Domène Mairie.\n\n\nRepas : Pique-nique\, au moins 1L d’eau et de quoi grignoter pendant la rando.\n\n\nCoûts :\n– participation pour l’encadrement : 5€\n– pour le trajet en covoiturage : 5€/personne\n=> 10€ à amener en billet/monnaie\n\n\nInscription en commentaires ci-dessous : indique ton prénom\, nom et si tu as une voiture (pour emmener plus de monde). Premiers arrivés\, premiers servis 🙂\n\nA bientôt !\n\nClaire
URL:https://www.grenoble-rando-universite.fr/event/dimanche-08-06-habert-des-sabottes-en-belledonne/
CATEGORIES:Rando à pied
ATTACH;FMTTYPE=image/jpeg:https://www.grenoble-rando-universite.fr/wp-content/uploads/2025/06/photo-rando.jpg
END:VEVENT
END:VCALENDAR