BEGIN:VCALENDAR
VERSION:2.0
PRODID:-// - ECPv5.14.0.4//NONSGML v1.0//EN
CALSCALE:GREGORIAN
METHOD:PUBLISH
X-ORIGINAL-URL:https://www.grenoble-rando-universite.fr
X-WR-CALDESC:évènements pour 
BEGIN:VTIMEZONE
TZID:UTC
BEGIN:STANDARD
TZOFFSETFROM:+0000
TZOFFSETTO:+0000
TZNAME:UTC
DTSTART:20250101T000000
END:STANDARD
END:VTIMEZONE
BEGIN:VEVENT
DTSTART;VALUE=DATE:20250611
DTEND;VALUE=DATE:20250612
DTSTAMP:20260423T015625
CREATED:20250609T083205Z
LAST-MODIFIED:20250609T083206Z
UID:14982-1749600000-1749686399@www.grenoble-rando-universite.fr
SUMMARY:mercredi 11 juin\, walking under the moon
DESCRIPTION:Salut\, \nune soirée pleine lune\, c’est un moment unique à vivre au moins une fois! Alors\, si ça te tente\, viens nous rejoindre ce mercredi 11 juin\, soir de pleine lune des fraises\, près des falaises de Chartreuse. Avec en prime\, un magnifique coucher de soleil et une sensation unique\, marcher sous les étoiles. Prévoir des gants\, des chaussures\, des vêtements chauds\, une thermos d’eau chaude. Nous ferons 600-700 mètres environ de dénivelé positif. \nCoût: 3 euros (rando peu longue) + 7 euros co-voiturage. \nPrévoir de la monnaie. \nRendez-vous à l’arrêt de tram “hôtel de ville de Grenoble” à 18h00. \nIl n’y a que 4 places\, inscris-toi vite!
URL:https://www.grenoble-rando-universite.fr/event/mercredi-11-juin-walking-under-the-moon/
LOCATION:chartreuse
CATEGORIES:Rando à pied
ATTACH;FMTTYPE=image/jpeg:https://www.grenoble-rando-universite.fr/wp-content/uploads/2024/10/refuge-parmelan-bauges.jpg
END:VEVENT
END:VCALENDAR