BEGIN:VCALENDAR
VERSION:2.0
PRODID:-// - ECPv5.14.0.4//NONSGML v1.0//EN
CALSCALE:GREGORIAN
METHOD:PUBLISH
X-ORIGINAL-URL:https://www.grenoble-rando-universite.fr
X-WR-CALDESC:évènements pour 
BEGIN:VTIMEZONE
TZID:UTC
BEGIN:STANDARD
TZOFFSETFROM:+0000
TZOFFSETTO:+0000
TZNAME:UTC
DTSTART:20250101T000000
END:STANDARD
TZID:Europe/Paris
BEGIN:DAYLIGHT
TZOFFSETFROM:+0100
TZOFFSETTO:+0200
TZNAME:CEST
DTSTART:20250330T010000
END:DAYLIGHT
BEGIN:STANDARD
TZOFFSETFROM:+0200
TZOFFSETTO:+0100
TZNAME:CET
DTSTART:20251026T010000
END:STANDARD
END:VTIMEZONE
BEGIN:VEVENT
DTSTART;VALUE=DATE:20250614
DTEND;VALUE=DATE:20250616
DTSTAMP:20260423T014608
CREATED:20250603T121203Z
LAST-MODIFIED:20250603T205534Z
UID:14954-1749859200-1750031999@www.grenoble-rando-universite.fr
SUMMARY:Bus Montagne en Chartreuse 14&15 juin
DESCRIPTION:Les Bus Montagne\, qu’est-ce que c’est?\nTous les week-ends\, du 7 au 28 juin 2025 nous mettons en place des bus à destination d’un massif autour de Grenoble. Venez avec nous à la découverte de randonnées habituellement non desservies en transports en commun! Ces bus vous permettront de vous rendre chaque week-end dans un massif différent pour aller randonner et vous rafraichir en montagne.\nTarif  bus Aller – Retour : 6 € \nLa journée\, vous êtes en autonomie pour aller randonner ( voir les idées de randos et autres activités sur le programme en cliquant ici).\nPour les personnes débutantes ou non autonomes en montagne\, nous proposons aussi une balade initiation sur la journée. Cette randonnée gratuite sur inscription\, à réserver en achetant votre billet de bus sur HelloAsso (dans la limite des places disponibles).\nPrévoir des chaussures de randonnée\, de l’eau et un pic-nic. \n\nSamedi 14 juin\,  direction Saint Pierre de Chartreuse !\nRDV 8h sur le parking de la MC2\, rue Paul Claudel (Accès Tram A arrêt MC2 et Chronovélo)\n \nLe 14 juin à Saint Pierre de Chartreuse\, ne ratez pas l’anniversaire des 30 ans du Parc Naturel Régional de Chartreuse ! \nUne journée festive et conviviale\, en plein cœur du massif\, qui mettra à l’honneur la richesse de notre territoire\, ses savoir-faire\, son patrimoine et les acteurs qui le font vivre.\nLien vers le programme : http://www.parc-chartreuse.net/30ans \nRETOUR : Rdv à 17h au bus pour un retour à Grenoble vers 18h \n  \nDimanche 15  juin\,  direction le Col du Coq !\nRDV 8h sur le parking de la MC2\, rue Paul Claudel (Accès Tram A arrêt MC2 et Chronovélo) \nLe 15 juin\, des guides nature du Département de l’Isère tiendront un stand de présentation de l’Espace Naturel Sensible du col du coq.\nL’occasion rêvée d’en apprendre plus sur cet ENS aux portes de la Réserve Naturelle des Hauts de Chartreuse\, entre alpage et forêts ! \nRETOUR : Rdv à 17h au bus pour un retour à Grenoble vers 18h \n  \nPour plus d’infos et l’accès à la billetterie\, c’est par ici !
URL:https://www.grenoble-rando-universite.fr/event/bus-montagne-en-chartreuse-1415-juin/
LOCATION:Massif de la Chartreuse
CATEGORIES:Rando à pied
ATTACH;FMTTYPE=image/jpeg:https://www.grenoble-rando-universite.fr/wp-content/uploads/2025/06/POST-INSTA-BM-2025-Chartreuse.jpg
END:VEVENT
BEGIN:VEVENT
DTSTART;TZID=Europe/Paris:20250614T070000
DTEND;TZID=Europe/Paris:20250614T180000
DTSTAMP:20260423T014608
CREATED:20250606T122145Z
LAST-MODIFIED:20250606T122451Z
UID:14969-1749884400-1749924000@www.grenoble-rando-universite.fr
SUMMARY:14/06 Rando et bichonnage de cabanes à Arvillard avec Belledonne Sport Nature
DESCRIPTION:!! Le club ne gère pas les inscriptions !!\nVous pouvez néanmoins utiliser les commentaires ci-dessous pour former un groupe pour participer le samedi (et éventuellement dimanche). \nLes association Belledonne Sport Nature\, Tous à Poêle et Au delà du trail proposent le samedi 14 Juin une journée combinant randonnée (ou trail) et chantier de rénovation/bichonnage des chalets de la Grande Montagne à Arvillard en Belledonne.  \nAu programme :\nSamedi :\n– départ navette Grenoble\n– 8h : RDV départ Arvillard : montée aux Chalets de la Grande Montagne par les sentiers (7km / 950m de dénivelé soit 3h environ)\n– à partir de 11h : chantier de rénovation des chalets :  aucune compétence particulière n’est requise.\n– 16h : redescente à Arvillard ou 18h : apéro \nUne navette est normalement proposée depuis Grenoble pour rejoindre Arvillard (à demander à l’inscription\, horaire non connu).\nNuit possible dans un des chalets ou cabanes à proximité (matériel de bivouac à prévoir !). \nPlus d’infos et inscription à la journée trail/rando + chantier et navette :\naudeladutrail.fr/sorties-item/grandemontagne/  \nLe lendemain\, dimanche :\nBelledonne Sport Nature propose une randonnée sportive pour les Grands Moulins. belledonne-sport-nature.fr/events/les-grands-moulins-2/\n(autres randonnées possibles en autonomie depuis les Chalets de la Grande Montagne ou Val Pelouse). \nPour la rando du dimanche : plus d’infos ici\nSi vous voulez vous inscrire à la randonnée\, n’hésitez pas à contacter Daniel de Belledonne Sport Nature (voir mail contact ci-dessous) en précisant que vous avez eu l’info par Alpes Là. \n 
URL:https://www.grenoble-rando-universite.fr/event/14-06-evenement-partenaire-rando-et-bichonnage-de-cabanes-a-arvillard-avec-belledonne-sport-nature/
CATEGORIES:Evènement,Rando à pied
ATTACH;FMTTYPE=image/jpeg:https://www.grenoble-rando-universite.fr/wp-content/uploads/2025/06/chalet-grande-montagne-arvillard-belledonne.jpg
ORGANIZER;CN="Belledonne%20Sport%20Nature":MAILTO:daniel@ddupuis.info
END:VEVENT
BEGIN:VEVENT
DTSTART;TZID=UTC:20250614T081500
DTEND;TZID=UTC:20250614T180000
DTSTAMP:20260423T014608
CREATED:20250609T084147Z
LAST-MODIFIED:20250611T053610Z
UID:14983-1749888900-1749924000@www.grenoble-rando-universite.fr
SUMMARY:Samedi 14 Juin: Col des Aiguilles(800m)
DESCRIPTION:Bienvenue dans le Devoluy Magique ! \nNotre but: depuis le splendide vallon de la Jarjatte\, passer entre deux aiguilles : Le Haut Bouffet et La Tête du Mollah.\nAmbiance verdoyante au départ\, puis plutôt  minérale. Au sommet\, l’intérieur du Devoluy s’offrira à nos yeux \nNiveau: Intermédiaire facile. Rythme tranquille \nDénivelé : 800m \nEquipement\nLunettes de soleil\, crême solaire\, coupe vent\, polaire \, picnic \, 2L d’eau\n( on montera à 2000m d’altitude )\nil faut des chaussures qui ne glissent pas .\nDes bâtons peuvent être utiles ( je peux en apporter quelques uns ) \nCoût: 5€ à payer immédiatement sur HelloAsso\n+ co-voiturage ( 10€) : prenez du liquide ! \nRendez vous : 8h15 Station “Le Prisme” du tramway ligne C \nInscription : sur le lien HelloAsso avant jeudi 21h\nhttps://www.helloasso.com/associations/alpes-la/evenements/bernard-rando-38 \n( pas de mail de confirmation\, je mettrai sur le site la liste finale des inscrits )
URL:https://www.grenoble-rando-universite.fr/event/samedi-14-juin-col-des-aiguilles800m/
CATEGORIES:Rando à pied
ATTACH;FMTTYPE=image/jpeg:https://www.grenoble-rando-universite.fr/wp-content/uploads/2021/05/bm-scaled.jpg
END:VEVENT
BEGIN:VEVENT
DTSTART;TZID=UTC:20250614T110000
DTEND;TZID=UTC:20250615T113000
DTSTAMP:20260423T014608
CREATED:20250506T175924Z
LAST-MODIFIED:20250602T121917Z
UID:14835-1749898800-1749987000@www.grenoble-rando-universite.fr
SUMMARY:[COMPLET] 14-15/06 We rando bivouac dans les Ecrins avec le Crous
DESCRIPTION:Randonnée organisée en partenariat avec le Crous Grenoble-Alpes ouverte à tous les étudiant-e-s (adhérents ou non du club) \n\n\n\n2 jours pour découvrir la vallée sauvage du Vénéon dans le Parc national des Ecrins et bivouacquer au pied des sommets et des glaciers. \nProgramme prévisionnel :  \nSamedi : – RDV 10h30 à la gare routière de Grenoble\, départ du bus T75 à 10h45 pour Bourg d’Oisans.Arrivée à Bourg d’Oisans à 12h10\, 2 options possibles :Option niveau facile : Si tu es débutant.e en randonnée ou si tu as le vertige (= peur du vide)=> Temps libre : Pique-nique et découverte du village de Bourg d’Oisans=> Navette pour la Bérarde à 16hOption niveau moyen :Si tu as déjà fait une randonnée et que tu n’as pas le vertige (= peur du vide).=> Bus pour rejoindre les 2 Alpes et randonnée des 2 Alpes à Saint Christophe en Oisans : 3h environ (D+550m D- 750\, 9km environ)=> Navette pour la Bérarde à 16h30Pour tout-e-s : 17h : arrivée en navette depuis la Bérarde et randonnée de 2h jusqu’aux environs du refuge du Carrelet pour le bivouac (D+ 250m \, 5km).Soirée bivouac :repas\, montage des tentes\, puis soirée sous les étoiles \nDimanche :– Lever 4h30\, départ 5h à la frontale comme les alpinistes\, juste avant l’arrivée des premières lueurs du jour – navette retour : 7h15 – Bourg d’Oisans : 8h30 – Grenoble : 10h \n\n\n\n\n\nMatériel :– matériel de bivouac : matelas\, sac de couchage 5°C ou 0°C\, tente – matériel de randonnée : chaussures de randonnée\, trail\, ou basket (semelles qui ne “glisse pas”) – sac à dos 30 à 40L le matériel (hors chaussures) peut être prêté par le club et est à récupérer lors de la réunion du jeudi soir avant la sortie.  – vêtements chauds\, bonnet + vêtement pour la pluie/le vent + protection soleil (chapeau/casquette\, lunettes de soleil\, crème solaire) \n\n\n\nRepas : -Prévoir une gourde (1L d’eau minimum) + de quoi grignoter pendant la randonnée. -Pique-nique du samedi amené par les participants -Autres repas (repas du soir et petit déjeuner) prévus par le club. Nuit : en tente (tente ou tarp fourni par le club). \n\n\n\nTransport : en bus depuis Grenoble RDV de départ : samedi Gare routière de Grenoble à 10h30 (bus T75) direction Bourg d’Oisans. Retour prévu : dimanche 10h à la Gare routière de Grenoble + dépose du matériel emprunté au local. \n\n\n\nTarif : 5€ seulement (pour les repas soir et petit déjeuner fournis) L’encadrement et transport sont financés par le Crous. Le matériel est prêté par le club. Obligatoire : Réunion d’information/préparation de la sortie + récupération du matériel le jeudi 12 Juin à 18h au local du club.  \nInscriptions sur Helloasso : (10 places) Complet !helloasso.com/associations/alpes-la/evenements/14-15-juin-rando-bivouac-decouverte-avec-le-crous Remarque : la destination pourra être modifiée pour s’adapter à la météo. (en cas de risque d’orage notamment\, un lieu avec une cabane sera préféré)N’hésite pas à utiliser les commentaires ci-dessous si tu as une question.A bientôt en montagne\, Vincent – accompagnateur en montagne
URL:https://www.grenoble-rando-universite.fr/event/14-15-06-we-rando-bivouac-dans-les-ecrins-avec-le-crous/
CATEGORIES:Rando à pied
ATTACH;FMTTYPE=image/jpeg:https://www.grenoble-rando-universite.fr/wp-content/uploads/2025/05/vallon-refuge-carrelet-ecrins-berarde.jpg
END:VEVENT
END:VCALENDAR