BEGIN:VCALENDAR
VERSION:2.0
PRODID:-// - ECPv5.14.0.4//NONSGML v1.0//EN
CALSCALE:GREGORIAN
METHOD:PUBLISH
X-ORIGINAL-URL:https://www.grenoble-rando-universite.fr
X-WR-CALDESC:évènements pour 
BEGIN:VTIMEZONE
TZID:UTC
BEGIN:STANDARD
TZOFFSETFROM:+0000
TZOFFSETTO:+0000
TZNAME:UTC
DTSTART:20250101T000000
END:STANDARD
END:VTIMEZONE
BEGIN:VEVENT
DTSTART;TZID=UTC:20250628T080000
DTEND;TZID=UTC:20250628T190000
DTSTAMP:20260423T014613
CREATED:20250623T132645Z
LAST-MODIFIED:20250627T064355Z
UID:15021-1751097600-1751137200@www.grenoble-rando-universite.fr
SUMMARY:[ **reste 1 place **] Samedi 28 Juin: Balade dans les Ecrins + Baignade (750m)
DESCRIPTION:Viens découvrir le Valjouffrey ! \nA partir du Desert\, on remontera un joli vallon\, agrémenté de cascades \, en suivant le torrent .\nOn ira explorer le haut d’une de ces cascades\, pour atteindre la 2e cascade  [alt 1950m]  (en dernière partie\, le sentier fait place à du pierrier )\nPicnic à l’ombre bienveillante d’un grand rocher ! \n… et le bonus : (au retour) une séance baignade dans un lac aménagé \, avec une belle pelouse ombragée … \nNiveau: Intermédiaire . Rythme tranquille\nDénivelé 750m \nEquipement\nCasquette/Chapeau\, Lunettes de soleil\, crême solaire\, coupe vent\, polaire\,picnic \, 2L d’eau\nil faut des chaussures qui ne glissent pas \nDes bâtons sont utiles ( je peux en apporter quelques uns ) \nPour la partie baignade: un sac à provision séparé\, pour le maillot/serviette  qu’on laissera dans la voiture le temps de la rando \nRendez vous : 8h00 Station “Le Prisme” du tramway ligne C\nCoût : 5€ à payer le jour de la sortie + covoiturage ( 10€ ) Prenez du liquide \nInscription : sur le lien HelloAsso avant jeudi 21h\nhttps://www.helloasso.com/associations/alpes-la/evenements/bernard-rando-40 \n( pas de mail de confirmation\, je mettrai sur le site la liste finale des inscrits ) \nGroupe limité à 2 voitures \n \nla récompense de fin de journée…
URL:https://www.grenoble-rando-universite.fr/event/samedi-28-juin-balade-dans-les-ecrins-baignade-750m/
CATEGORIES:Rando à pied
ATTACH;FMTTYPE=image/jpeg:https://www.grenoble-rando-universite.fr/wp-content/uploads/2025/06/20220702_135813-scaled.jpg
END:VEVENT
END:VCALENDAR