BEGIN:VCALENDAR
VERSION:2.0
PRODID:-// - ECPv5.14.0.4//NONSGML v1.0//EN
CALSCALE:GREGORIAN
METHOD:PUBLISH
X-ORIGINAL-URL:https://www.grenoble-rando-universite.fr
X-WR-CALDESC:évènements pour 
BEGIN:VTIMEZONE
TZID:Europe/Paris
BEGIN:DAYLIGHT
TZOFFSETFROM:+0100
TZOFFSETTO:+0200
TZNAME:CEST
DTSTART:20250330T010000
END:DAYLIGHT
BEGIN:STANDARD
TZOFFSETFROM:+0200
TZOFFSETTO:+0100
TZNAME:CET
DTSTART:20251026T010000
END:STANDARD
TZID:UTC
BEGIN:STANDARD
TZOFFSETFROM:+0000
TZOFFSETTO:+0000
TZNAME:UTC
DTSTART:20250101T000000
END:STANDARD
END:VTIMEZONE
BEGIN:VEVENT
DTSTART;TZID=Europe/Paris:20251004T080000
DTEND;TZID=Europe/Paris:20251005T190000
DTSTAMP:20260422T194954
CREATED:20250926T111248Z
LAST-MODIFIED:20250926T112023Z
UID:15499-1759564800-1759690800@www.grenoble-rando-universite.fr
SUMMARY:04-05/10 WE1 Formation Orientation et autonomie en montagne
DESCRIPTION:Si vous voulez vous améliorer en orientation pour vos prochaines randos et emmener plus facilement des ami.e.s en montagne\, sortir des itinéraires balisés\, se retrouver même en cas de brouillard\,…\nCette formation est aussi utile si vous voulez par la suite encadrer des randos avec le club…  et le club est toujours à la recherche de nouveaux encadrant.e.s bénévoles.\nElle se déroule sur un cycle de 2 Week-ends.\nLa participation aux 2 Week-ends est fortement recommandée (il est néanmoins possible de ne faire que le 1er week-end si vous n’êtes pas disponible au 2ème) \n\n\nLes dates :\n\n\n\n04-05 Octobre (Sud Vercors à priori) : les bases de l’orientation en montagne\, autonomie en bivouac\,…\n08-09 Novembre (Dévoluy à priori) : mise en pratique par l’organisation de 2 jours avec bivouac par le groupe dont parcours hors sentier\, sécurité en montagne\,… \n\nLors de ce premier week-end\, nous verrons les bases de l’orientation en montagne avec carte\, boussole… sans oublier le terrain !\nVoici un aperçu du week-end de l’année passée (WE1) \n\nLe programme se fait sur le week-end avec une nuit en bivouac ou cabane (suivant météo et lieu). 800m de dénivelés par jour environ\nPlusieurs ateliers sont réalisés au fil de la randonnée\, parfois en grand groupe mais aussi par petits groupes\, en favorisant les échanges et partages d’expériences. \nRDV de départ : le samedi 8h à la Gare de Grenoble\nRetour dimanche 19h environ à Grenoble \nCoût : \n\n10€/WE (comprend le prêt de matériel si nécessaire) : boussoles\,  cartes imprimées\, matériel de bivouac fournis (matelas\, sac de couchage (duvet léger 0°C ou 5°C)\, et éventuellement tarp ou tente légère.\n+ partage des frais de transport en commun (10€) \n\n\nLes frais d’inscription et de transport (20€/week-end) vous seront remboursés si vous encadrez au moins 2 randonnées pour le club au printemps-été 2026 (randonnées à pied). \n\nEncadrement : Vincent\, accompagnateur en montagne \nInscriptions : 10 places maximum\nSur Helloasso : https://www.helloasso.com/associations/alpes-la/evenements/4-5-10-we-formation-1-orientation-autonomie-avec-vincent \nSi tu as des questions\, n’hésite pas à les poser en commentaire ci-dessous. \nUne  réunion pour donner plus d’infos\, s’organiser et récupérer si besoin du matériel\, aura lieu :\nle jeudi 02 Octobre 18h au local du club (attention nouveau local !)
URL:https://www.grenoble-rando-universite.fr/event/04-05-10-we1-formation-orientation-et-autonomie-en-montagne/
CATEGORIES:Formation
ATTACH;FMTTYPE=image/jpeg:https://www.grenoble-rando-universite.fr/wp-content/uploads/2019/10/Formation-Rando-Orientation-Autonomie-Vercors-Alpes-Ecotourisme.eu-036.jpg
ORGANIZER;CN="Vincent%20Accompagnateur%20en%20Montagne":MAILTO:vincent.martinmasse+rando@gmail.com
END:VEVENT
BEGIN:VEVENT
DTSTART;TZID=UTC:20251004T083000
DTEND;TZID=UTC:20251004T173000
DTSTAMP:20260422T194954
CREATED:20251002T070924Z
LAST-MODIFIED:20251003T142628Z
UID:15527-1759566600-1759599000@www.grenoble-rando-universite.fr
SUMMARY:[ !!! La 2e voiture a été trouvée !!!  ]Samedi 4 Oct: Balcon Est + Fontaine Ardente (Vercors) 600m
DESCRIPTION:===================== Balcon Est ============================ \nUne boucle sur le Balcon Est \, au pied des falaises majestueuses du Vercors ( avec un aller-retour au Col Vert\, pour admirer la vue de l’autre coté )\nEt au moment de rentrer\, petit bonus : on fera un détour touristique\, pour aller découvrir la Fontaine Ardente \n( une des 7 merveilles du Dauphiné\, la Fontaine Ardente est en fait une source naturelle de méthane\, qui brûle perpétuellement ) \nDénivelé : 600m     4h de marche ( + 30mn pour la fontaine ) \nNiveau : découverte/intermédiaire – rythme tranquille \nEquipement:\nChaussures qui ne glissent pas\nCasquette\, lunettes de soleil\, crême solaire . Eau 1\,5L \, picinic\nCoupe vent \, polaire \, et comme l’été est fini : bonnet/gants  ( on monte à 1700m d’altitude ) \nDes bâtons peuvent servir ( le court sentier qui descend à la fontaine est un peu boueux )\nJe peux en apporter quelques uns \nCoût/Inscription :\n5€  à payer immédiatement sur HelloAsso\nhttps://www.helloasso.com/associations/alpes-la/evenements/bernard-rando-42\n+ covoiturage ( de 4€ à 6€ ) prenez de la monnaie \nRendez vous : 8h30 station “le prisme” du Tramway C \nIl faudra une 2e voiture en plus de la mienne (si pas de 2ème voiture\, les passagers de la 2ème voiture ne pourront pas venir et seront remboursés) \nClôture des inscriptions : Vendredi 11h (si tu as une voiture\, inscris toi avant vendredi soir !)\npas de mail de confirmation : je mettrai sur le site en commentaire ci-dessous la liste des inscrits \nA samedi !
URL:https://www.grenoble-rando-universite.fr/event/samedi-4-oct-balcon-est-fontaine-ardente-vercors/
CATEGORIES:Rando à pied
ATTACH;FMTTYPE=image/jpeg:https://www.grenoble-rando-universite.fr/wp-content/uploads/2024/04/20240320_144346-scaled.jpg
END:VEVENT
BEGIN:VEVENT
DTSTART;TZID=UTC:20251004T100000
DTEND;TZID=UTC:20251005T170000
DTSTAMP:20260422T194954
CREATED:20250928T144009Z
LAST-MODIFIED:20250928T144010Z
UID:15508-1759572000-1759683600@www.grenoble-rando-universite.fr
SUMMARY:première sortie alpinisme initiation (Ecrins ou Vanoise)
DESCRIPTION:Vous avez envie de randonner sur un glacier d’altitude en toute sécurité et voir le lever du soleil sur une centaine de sommets environnants dont tous les sommets des Ecrins\, des Alpes du Sud (Mont Ventoux) au Nord (Mont Blanc)\, c’est la rando. sportive qu’il vous faut. \nDifficultés : sportif + techniques d’alpinisme \nC’est une rando. adaptée à des personnes qui souhaiteraient s’initier à l’alpinisme\, il n’y a pas d’escalade sur le cheminement mais quelques pentes à 35-40°. \nBien sûr\, cette rando n’est pas adaptée aux débutants. Je vous apprendrai à progresser avec des crampons mais il y a quand même 1000 mètres de dénivelé sur des cailloux et 800 mètres sur de la neige- glace. \nRDV départ : Pour profiter de bonnes conditions de progression\, nous partirons à 10 heures de Grenoble le samedi 4 octobre (arrêt de tram hôtel de ville prisme à Seyssins)\, dormirons en refuge (Ecrins) ou cabane d’altitude(Vanoise) et démarrerons le dimanche à 4 heures du matin\, pour arriver au lever du soleil au sommet. \nMatériel : Il faudra de très bonnes chaussures pour mettre les crampons (pas de baskets!)\, des bâtons\, une frontale (je peux en prêter gratuitement)\, des vêtements chauds (pantalon\, veste gore-tex\, bonnet\, gants)\, deux petit pique-niques\, 2 litres d’eau. Nous partagerons la réalisation du repas commun du samedi soir. Je m’occuperai du petit déj du dimanche matin. \nLe retour se fera vers 17h00- 18h00 le dimanche après-midi. \nCoût: 10 euros co-voiturage + 10 euros club (participation aux encadrements club + prêt matériel des crampons\, piolet\, baudriers\, casques\, matériel de couchage). \nEN PRIORITE\, MARJOLEIN\, ADELAIDE\, RODNEY\, JEREMIE\, YANN et ORAN sont inscris. S’ils souhaitent confirmer leur venue\, il faudrait le signaler sur le site d’ici lundi soir\, vous avez déjà le matériel donc rien à payer pour vous. \nSi des places se libèrent lundi soir\, il y aura possibilité de s’inscrire en fonction du nombre de voitures… \nInscriptions : Vous pouvez vous pré inscrire dès maintenant sur le site ci-dessous  en commentaire en indiquant vos noms\, prénoms\, si vous avez une voiture ou non. \nEmmanuel
URL:https://www.grenoble-rando-universite.fr/event/premiere-sortie-alpinisme-initiation-ecrins-ou-vanoise/
LOCATION:Vanoise
CATEGORIES:Alpinisme
ATTACH;FMTTYPE=image/jpeg:https://www.grenoble-rando-universite.fr/wp-content/uploads/2025/05/vallon-refuge-carrelet-ecrins-berarde.jpg
END:VEVENT
END:VCALENDAR