BEGIN:VCALENDAR
VERSION:2.0
PRODID:-// - ECPv5.14.0.4//NONSGML v1.0//EN
CALSCALE:GREGORIAN
METHOD:PUBLISH
X-ORIGINAL-URL:https://www.grenoble-rando-universite.fr
X-WR-CALDESC:évènements pour 
BEGIN:VTIMEZONE
TZID:UTC
BEGIN:STANDARD
TZOFFSETFROM:+0000
TZOFFSETTO:+0000
TZNAME:UTC
DTSTART:20250101T000000
END:STANDARD
END:VTIMEZONE
BEGIN:VEVENT
DTSTART;TZID=UTC:20251019T090000
DTEND;TZID=UTC:20251019T190000
DTSTAMP:20260422T195927
CREATED:20250913T173117Z
LAST-MODIFIED:20251018T124716Z
UID:15323-1760864400-1760900400@www.grenoble-rando-universite.fr
SUMMARY:Dimanche 19 Octobre :  Col de l'Arc
DESCRIPTION:Il reste 4 places disponibles  ! \n  \nBonjour à toutes et à tous\, \nCol de l’Arc sur la crête de chartreuse face aux écrins et Grenoble. Une fois n’est pas coutume\, petit trajet en voiture. \n  \nPensez à prendre une lampe\, le soleil descend vite maintenant \n \ndifficultés : rando intermédiaire\, dénivelé positif 750m \nRDV départ : Départ  depuis l’arrêt de Marie Louise CEA ligne B pour 9h00 retour vers 19h \nMatériel : Eventuellement des bâtons (j’ai deux paires de bâton de ski si besoin)\, polaire\, coup vent\, bonnet\, écharpe\, gants en tout cas selon vos besoins\, penser à prendre une lampe . \nPensez à prendre un repas pour midi\, environ 1L5 à 2L d’eau (mieux vaut être prévoyant). \nCoûts :\n– participation club aux encadrements : 5€\n– transport : frais de covoiturage à partager : 3€/personne A apporter le jour de la rando !! \nNombre de places : 4 places restantes car 2 conducteurs \nInscriptions : https://www.helloasso.com/associations/alpes-la/evenements/valentin-rando-5 \nA bientôt ! \nValentin\, encadrant bénévole \n \nPhotos Altitude rando
URL:https://www.grenoble-rando-universite.fr/event/dimanche-19-octobre-col-de-larc/
LOCATION:Vercors
CATEGORIES:Rando à pied
ATTACH;FMTTYPE=image/jpeg:https://www.grenoble-rando-universite.fr/wp-content/uploads/2025/09/2025-09-13-19_24_45-Album-photo-Col-de-lArc-et-pic-Saint-Michel-1966m.jpg
ORGANIZER;CN="Valentin":MAILTO:valentin.borel@gmail.com
END:VEVENT
END:VCALENDAR