BEGIN:VCALENDAR
VERSION:2.0
PRODID:-// - ECPv5.14.0.4//NONSGML v1.0//EN
CALSCALE:GREGORIAN
METHOD:PUBLISH
X-ORIGINAL-URL:https://www.grenoble-rando-universite.fr
X-WR-CALDESC:évènements pour 
BEGIN:VTIMEZONE
TZID:Europe/Paris
BEGIN:DAYLIGHT
TZOFFSETFROM:+0100
TZOFFSETTO:+0200
TZNAME:CEST
DTSTART:20260329T010000
END:DAYLIGHT
BEGIN:STANDARD
TZOFFSETFROM:+0200
TZOFFSETTO:+0100
TZNAME:CET
DTSTART:20261025T010000
END:STANDARD
TZID:UTC
BEGIN:STANDARD
TZOFFSETFROM:+0000
TZOFFSETTO:+0000
TZNAME:UTC
DTSTART:20260101T000000
END:STANDARD
END:VTIMEZONE
BEGIN:VEVENT
DTSTART;TZID=Europe/Paris:20260101T080000
DTEND;TZID=Europe/Paris:20260322T170000
DTSTAMP:20260422T140648
CREATED:20260119T153928Z
LAST-MODIFIED:20260119T160340Z
UID:15919-1767254400-1774198800@www.grenoble-rando-universite.fr
SUMMARY:Planning prévisionnel Randos Hiver Janvier-Mars 2026
DESCRIPTION:Le programme est à découvrir ici\nDes randos sont ajoutées\, modifiées ou supprimées suivant les conditions météo et autres évolutions. \n\nPour rejoindre la montagne sans voiture cet hiver autour de Grenoble\, voici les infos pratiques :\nrando-sans-voiture.fr/decouvrir-la-montagne-enneigee-sans-voiture-bons-plans-hiver-2024-2025/
URL:https://www.grenoble-rando-universite.fr/event/planning-previsionnel-randos-hiver-2026/
ATTACH;FMTTYPE=image/jpeg:https://www.grenoble-rando-universite.fr/wp-content/uploads/2026/01/igloo-club.jpg
END:VEVENT
BEGIN:VEVENT
DTSTART;TZID=Europe/Paris:20260220T080000
DTEND;TZID=Europe/Paris:20260222T170000
DTSTAMP:20260422T140648
CREATED:20260209T134625Z
LAST-MODIFIED:20260216T125011Z
UID:15975-1771574400-1771779600@www.grenoble-rando-universite.fr
SUMMARY:[Rando des Vacances] 20-21-22/02 : 3 jours en rando-cabane sur les Hauts Plateaux du Vercors avec le Crous
DESCRIPTION:Randonnée réservée aux étudiant.e.s (adhérents ou non du club) \nDu jeudi 19 février au samedi 21 février vendredi 20 février au dimanche 22 février (changement de date en raison de la météo)\, le Crous Grenoble-Alpes et le Club Grenoble Rando Université te proposent pour les vacances une randonnée cabanes découverte en itinérance\, direction les Hauts Plateaux sauvages du Vercors. \nDates : du vendredi 20 février au dimanche 22 février 2026 \nAu programme : \n\naccès en transport en commun depuis Grenoble\nrandonnée en traversée du Nord au Sud du Vercors\nsoirées et nuits en cabanes\net sans doute aussi : observation des animaux\, couchers (ou lever) de soleil\, …\n\nTransport : départ depuis Corrençon en Vercors (accès en bus depuis la gare de Grenoble)\, retour en train par la gare de Clelles. \nDifficultés : Niveau découverte donc accessible à tous\, environ 600m de dénivelé par jour. \nMatériel : à avoir ou à se faire prêter par le club\nraquettes\, bâtons\, guêtres…\n+ matériel pour dormir : matelas\, duvet (5°C confort)\, sac à dos 30L à 40L environ. \nEquipement conseillé pour randonner l’hiver \nRepas : prévoir les repas des midis (3 pique-niques à priori) \nLes repas du soir et petits déjeuners sont prévus par le club. \nCoûts : Sortie financée par le Crous (encadrement et transport)\n10€ pour les 2 repas du soir et petit déjeuners (payés à l’inscription Helloasso) \nInscriptions : sur Helloasso : (10 places)\n \nhelloasso.com/associations/alpes-la/evenements/19-20-21-02-2026-rando-cabanes-vacances-d-hiver-avec-le-crous \n+ Réunion de préparation et récupération du matériel : le Jeudi 19 février à 17h au local du club : Local Alpes Là/Collectif Voisin 11 Place André Charpin\, 38100 Grenoble (récupération du matériel possible jusqu’à 18h45)\n\nSi vous avez des questions avant de vous inscrire\, n’hésitez pas à les poser en commentaire ci-dessous. (la réunion de préparation permet aussi de vous donner plus d’infos). \nVincent \nAccompagnateur en montagne
URL:https://www.grenoble-rando-universite.fr/event/rando-des-vacances-hiver-2026-3-jours-en-rando-cabane-sur-les-hauts-plateaux-du-vercors-avec-le-crous/
CATEGORIES:Rando Raquettes
ATTACH;FMTTYPE=image/jpeg:https://www.grenoble-rando-universite.fr/wp-content/uploads/2026/02/rando-raquettes-itinerance-vercors.jpg
ORGANIZER;CN="Vincent%20Accompagnateur%20en%20Montagne":MAILTO:vincent.martinmasse+rando@gmail.com
END:VEVENT
BEGIN:VEVENT
DTSTART;TZID=UTC:20260222T093000
DTEND;TZID=UTC:20260222T180000
DTSTAMP:20260422T140648
CREATED:20260217T173814Z
LAST-MODIFIED:20260218T100846Z
UID:16012-1771752600-1771783200@www.grenoble-rando-universite.fr
SUMMARY:Dimanche 22/02 : Rando sur le plateau des petites roches\, mine\, cascade et moulin 350m d+
DESCRIPTION:Bonjour à toutes et à tous\, \nJ’espère que vous allez bien. \nOriginaire de la région et notamment de St hilaire du Touvet sur le plateau des petites roches\, je souhaitais concilier le souhait de vous présenter ce plateau et avoir le moins possible de neige. \n  \nRando en 2 étapes : \n1er arrêt à st Pancrasse pour aller découvrir l’entrée d’une ancienne mine de ciment 150m d+\, mine oubliée\, invisible sur google maps. \non reprendra la voiture pour 5/10 min \n2nd arrêt au syndicat d’initiative de St Hilaire pour une rando sur 4.5km\, avec environ 300m de  dénivelé. Avec Cascade des Dioux et ancien moulin de porte traine. \n  \nUne partie du chemin sera en bord de falaise\, pour ceux qui ont le vertige il sera possible de passer dans la foret. \n  \n \n  \nPhoto prise en cette fin d’été 2025\, cascade des dioux. \n  \nDifficultés :\nDifficulté découverte\,  dénivelé 350m \, 6km de boucle. \nMatériel : Pensez bien à prendre des vêtements chauds\, bonnet\, écharpes et gants\, polaire\, pantalon et coupe vent ou imperméable et des bâtons pour vous aider si nécessaire.\n\n\nTransport : co-voiturage au départ de arrêt tram B : Marie Louise CEA\n \n\n\n2 voitures\n\nRando sur une Journée : Départ Grenoble 9h30 retour vers 18h \nRepas :\n–  Je vous laisse apporter votre pique-nique et environ 1.5 /  2L d’eau suivant vos besoins.\n\n\n\n\nCoûts :\n– participation club aux encadrements : (5€/jour)\n– transport :\n* trajet en covoiturage : partage des frais (7€/personne )\n\n\n\n  \n\nInscription via Hello asso incluant les frais de transport : https://www.helloasso.com/associations/alpes-la/evenements/valentin-rando-10\n\nActuellement 8 places disponibles.\n\nClôture des inscriptions dimanche 7h\n\n\nN’hésites pas à poser une question en commentaire ci-dessous\n\nA bientôt ! \n\nValentin et Ludovic encadrants Bénévoles
URL:https://www.grenoble-rando-universite.fr/event/dimanche-22-02-rando-sur-le-plateau-des-petites-roches-mine-cascade-et-moulin-350m-d/
CATEGORIES:Rando à pied
ATTACH;FMTTYPE=image/jpeg:https://www.grenoble-rando-universite.fr/wp-content/uploads/2026/02/20220514_132052-scaled.jpg
ORGANIZER;CN="Valentin%20et%20Ludovic":MAILTO:valentin.borel@gmail.com
END:VEVENT
END:VCALENDAR