BEGIN:VCALENDAR
VERSION:2.0
PRODID:-// - ECPv5.14.0.4//NONSGML v1.0//EN
CALSCALE:GREGORIAN
METHOD:PUBLISH
X-ORIGINAL-URL:https://www.grenoble-rando-universite.fr
X-WR-CALDESC:évènements pour 
BEGIN:VTIMEZONE
TZID:Europe/Paris
BEGIN:DAYLIGHT
TZOFFSETFROM:+0100
TZOFFSETTO:+0200
TZNAME:CEST
DTSTART:20240331T010000
END:DAYLIGHT
BEGIN:STANDARD
TZOFFSETFROM:+0200
TZOFFSETTO:+0100
TZNAME:CET
DTSTART:20241027T010000
END:STANDARD
END:VTIMEZONE
BEGIN:VEVENT
DTSTART;TZID=Europe/Paris:20241005T080000
DTEND;TZID=Europe/Paris:20241005T170000
DTSTAMP:20260425T142739
CREATED:20240923T203558Z
LAST-MODIFIED:20240925T190042Z
UID:13563-1728115200-1728147600@www.grenoble-rando-universite.fr
SUMMARY:Samedi 05/10 Rando Risques naturels en Montagne - Le torrent du Manival et le Château Nardent en Chartreuse
DESCRIPTION:Dans le cadre des journées “Tous résilients face aux risques”\, l’association Alpes Là et son club Grenoble Rando Université proposent une randonnée sur la thématique des risques naturels en montagne.\n \nCelle-ci aura lieu le samedi 5 octobre encadrée par François-Luc Cimelière\, en présence de Robin Mainieri chef de projet au RTM de l’Isère. \nConnaissez-vous le RTM ?\nRTM signifie Restauration des Terrains de Montagne\, c’est un service spécialisé de l’Office National des Forêts dont les missions sont l’évaluation\, la prévention et la protection vis à vis des risques naturels en montagne. \nLa randonnée se déroulera dans le Grésivaudan. Nous partirons du village de Saint-Nazaire-les-Eymes et nous remonterons le torrent du Manival dans le lit duquel de nombreux ouvrages du RTM sont présents. \nCe torrent a une longue histoire ! Les plus curieux peuvent regarder une série de 3 vidéos qui l’évoquent\, voici un lien vers la première d’entre elle : youtube.com/watch?v=-iaqBp7WBVI \nRobin nous présentera la raison d’être du service RTM dont l’origine remonte à la fin du 19° siècle. Ce sera également le moment de présenter les diverses missions d’aujourd’hui du RTM qui ont évoluées au fil du temps. \nNous continuerons ensuite la randonnée vers le plateau des Petites Roches et nous irons pique-niquer sur un joli belvédère à 1200m d’altitude\, le Château Nardent. \nCette vue panoramique\, offrira un support à Robin pour évoquer l‘impact des changements environnementaux (climatiques et/ou occupation du territoire) sur les risques naturels en montagne. \nSi vous avez des questions sur : \n\nLa sensibilité des villages du Grésivaudan aux aléas de montagne\nLes risques émergents en haute montagne en lien avec le réchauffement climatique\nLes écroulements en moyenne montagne\nL’évolution du risque d’avalanche\n\nÇa sera le moment ! \nNiveau : \n\nDifficulté moyenne : 11km et un peu plus de 800m de dénivelé positif\n\nTransport : \n\nEn bus depuis Grenoble : Ligne n°80\n– Centre-ville de Grenoble : RDV de départ : 8h15 à l’arrêt Verdun Préfecture (Grenoble) – le bus sera parti à 8h25 !\nou \n– Proche du Campus : RDV de départ 8h20 à l’arrêt Sablons (Grenoble) – le bus sera parti à 8h30 !\n! Attention\, ne pas confondre avec l’arrêt Grand Sablon !!Arrivée à 8h50 à l’arrêt le Mémorial (Saint-Nazaire-les-Eymes)\nPoint de RDV pour le départ de la randonnée : Arrêt de bus “Le Mémorial” entre 8h50 et 9h\n\nEquipement : \n\nEquipement de randonnée classique pour une randonnée à la journée\nIl faudra prévoir de l’eau et votre pique-nique du midi\nBâtons de marche fortement recommandés (emprunt possible auprès de notre association).\n\nCoûts : \n\nParticipation à l’encadrement : 5€ tout public (adhérent ou non de l’association Alpes Là)\nFrais de transport : 2 tickets ou abonnement M-Réso (ex Tag) pour l’aller-retour en bus.\n\nInscriptions : (places limitées : 12 personnes) \n\nSur Helloasso : helloasso.com/associations/alpes-la/evenements/05-10-rando-le-torrent-du-manival-et-le-nardent-en-chartreuse-avec-francois-luc\n\nRandonnée encadrée par un accompagnateur en montagne
URL:https://www.grenoble-rando-universite.fr/event/samedi-05-10-rando-risque-en-montagne-le-torrent-du-manival-et-le-chateau-nardent-en-chartreuse/
LOCATION:Grésivaudan\, La Terrasse\, France
CATEGORIES:Rando à pied
ATTACH;FMTTYPE=image/jpeg:https://www.grenoble-rando-universite.fr/wp-content/uploads/2024/09/Photo-IRMA-Manival-Chartreuse.jpg
END:VEVENT
END:VCALENDAR