BEGIN:VCALENDAR
VERSION:2.0
PRODID:-// - ECPv5.14.0.4//NONSGML v1.0//EN
CALSCALE:GREGORIAN
METHOD:PUBLISH
X-ORIGINAL-URL:https://www.grenoble-rando-universite.fr
X-WR-CALDESC:évènements pour 
BEGIN:VTIMEZONE
TZID:UTC
BEGIN:STANDARD
TZOFFSETFROM:+0000
TZOFFSETTO:+0000
TZNAME:UTC
DTSTART:20240101T000000
END:STANDARD
END:VTIMEZONE
BEGIN:VEVENT
DTSTART;VALUE=DATE:20241027
DTEND;VALUE=DATE:20241028
DTSTAMP:20260423T120122
CREATED:20241020T214939Z
LAST-MODIFIED:20241022T170052Z
UID:13775-1729987200-1730073599@www.grenoble-rando-universite.fr
SUMMARY:27/10 - Sommet de la Grande Sure en Chartreuse
DESCRIPTION:Salut à tous ! \nCe dimanche\, je vous propose de gravir la Grande Sure en Chartreuse sur les hauteurs de Voiron. Au sommet\, vue imprenable sur le massif de la Chartreuse garantie ! Aussi\, si nous avons de la chance\, nous pourrons peut-être apercevoir le mouflon… \n  \nDifficulté: sportif\, 1500m de dénivelé positif avec quelques passages raides et techniques où il faut poser les mains (l’itinéraire sera adapté en fonction des conditions météo). \nTransport: aller et retour avec cars région T40. Départ de la gare routière vers 8h40 et retour vers 18h30 à la gare routière également. \nMatériel: matériel de randonnée classique\, bâtons (facultatif). \nTarif: 5 euros : participation aux encadrements club à payer sur HelloAsso\nTransport : tickets Cars Régions offerts (fournis par le club). \nInscription: 5 places. Inscription jusque vendredi soir. Lien d’inscription HelloAsso : https://www.helloasso.com/associations/alpes-la/evenements/samedi-27-10-grande-sure-julien \nJulien
URL:https://www.grenoble-rando-universite.fr/event/27-10-grande-sure/
CATEGORIES:Rando à pied
ATTACH;FMTTYPE=image/jpeg:https://www.grenoble-rando-universite.fr/wp-content/uploads/2024/10/GrandeSure.jpg
END:VEVENT
END:VCALENDAR