BEGIN:VCALENDAR
VERSION:2.0
PRODID:-// - ECPv5.14.0.4//NONSGML v1.0//EN
CALSCALE:GREGORIAN
METHOD:PUBLISH
X-ORIGINAL-URL:https://www.grenoble-rando-universite.fr
X-WR-CALDESC:évènements pour 
BEGIN:VTIMEZONE
TZID:UTC
BEGIN:STANDARD
TZOFFSETFROM:+0000
TZOFFSETTO:+0000
TZNAME:UTC
DTSTART:20240101T000000
END:STANDARD
END:VTIMEZONE
BEGIN:VEVENT
DTSTART;TZID=UTC:20241123T090000
DTEND;TZID=UTC:20241123T170000
DTSTAMP:20260423T103342
CREATED:20241121T082013Z
LAST-MODIFIED:20250221T180420Z
UID:13911-1732352400-1732381200@www.grenoble-rando-universite.fr
SUMMARY:[** COMPLET **] Samedi 23Nov : Dent du Loup / Sornin (600m)
DESCRIPTION:Rando à pied avec un peu de neige ! \nCette rando en boucle présente plusieurs facettes: \n\nUn coté assez classique avec  de beaux points de vue sur Grenoble et les montagnes environnantes\, que la neige aura un peu blanchies\nUn coté plus sauvage avec les falaises de la Dent du Loup\n\nDénivelé : 600m .\nNiveau: Découverte/Intermédiaire \nEquipement\nVêtements chauds ! Bonnet\,gants chauds\, polaire chaude\, anorak/veste . Il y aura du vent …\nChaussures qui ne glissent pas . Lunettes de soleil . Crême solaire \nIl peut faire chaud pendant la montée\, mais froid après … Picnic\, 1l d’eau . \nLes bâtons sont utiles . Je peux en apporter quelques uns \nRendez vous : 9h station “Le Prisme” du Tramway ligne C \nCoût / Inscription:\n5€ à payer immédiatement sur HelloAsso\nhttps://www.helloasso.com/associations/alpes-la/evenements/bernard-rando-25\n+ covoiturage ( 5€ ) à payer le jour de la sortie \, Prenez de la monnaie \nIl faudra une 2e voiture en plus de la mienne… avec des pneus neige ! \nClôture des inscriptions : Vendredi 20h\n( pas de mail de confirmation : je mettrai sur le site la liste des inscrits ) \nA Samedi !
URL:https://www.grenoble-rando-universite.fr/event/samedi-23nov-dent-du-loup-sornin-600m/
CATEGORIES:Rando à pied
ATTACH;FMTTYPE=image/jpeg:https://www.grenoble-rando-universite.fr/wp-content/uploads/2022/10/sornin1.jpg
END:VEVENT
END:VCALENDAR