BEGIN:VCALENDAR
VERSION:2.0
PRODID:-// - ECPv5.14.0.4//NONSGML v1.0//EN
CALSCALE:GREGORIAN
METHOD:PUBLISH
X-ORIGINAL-URL:https://www.grenoble-rando-universite.fr
X-WR-CALDESC:évènements pour 
BEGIN:VTIMEZONE
TZID:UTC
BEGIN:STANDARD
TZOFFSETFROM:+0000
TZOFFSETTO:+0000
TZNAME:UTC
DTSTART:20250101T000000
END:STANDARD
END:VTIMEZONE
BEGIN:VEVENT
DTSTART;TZID=UTC:20250406T080000
DTEND;TZID=UTC:20250406T170000
DTSTAMP:20260423T030901
CREATED:20250331T080834Z
LAST-MODIFIED:20250403T221825Z
UID:14608-1743926400-1743958800@www.grenoble-rando-universite.fr
SUMMARY:[**COMPLET**] Dimanche 6/04 : Rando Le réveil de la biodiversité en Chartreuse feat. le RESES
DESCRIPTION:Le club Grenoble Rando Université en partenariat avec le RESES vous proposent une nouvelle randonnée thématique biodiversité dans le cadre de la Semaine Etudiante de l’Ecologie et de la Solidarité 🙂 \nDifficulté : niveau découverte à moyen : D+ 400m / D- 650m environ \nDirection les crêtes du Saint Eynard dans le Parc naturel de Chartreuse depuis le Sappey en Chartreuse.\nClaire\, accompagnatrice en montagne\, vous fera découvrir par des sentiers et hors sentier la biodiversité flore et faune qui se réveille en ce début de printemps.\nItinéraire en traversée pour rejoindre la crête des falaises du Saint Eynard et son Fort et terminer au Col de Vence pour y récupérer le bus retour. \nTransport : bus M-Réso N62 : carte d’abonnement Tag/M-Réso\, ticket de bus fournis sinon.\nRDV bus 9h20 à Grenoble – arrêt de bus Notre Dame Musée\nRetour vers 17h à Grenoble. \nCoût : gratuit ! Ouvert aux étudiant⸱es adhérent⸱es ou non ! \nInscriptions : 12 places\nvia Helloasso : helloasso.com/associations/alpes-la/evenements/dimanche-6-avril-rando-biodiversite-en-chartreuse-en-partenariat-avec-le-reses \nEn cas de question\, n’hésite pas à utiliser les commentaires ci-dessous. \nClaire \nRandonnée organisée par une accompagnatrice en montagne (stagiaire). \n 
URL:https://www.grenoble-rando-universite.fr/event/dimanche-6-04-rando-le-reveil-de-la-biodiversite-en-chartreuse-feat-le-reses/
CATEGORIES:Rando à pied
ATTACH;FMTTYPE=image/jpeg:https://www.grenoble-rando-universite.fr/wp-content/uploads/2025/03/crete-saint-eynard.jpg
END:VEVENT
END:VCALENDAR