BEGIN:VCALENDAR
VERSION:2.0
PRODID:-// - ECPv5.14.0.4//NONSGML v1.0//EN
CALSCALE:GREGORIAN
METHOD:PUBLISH
X-ORIGINAL-URL:https://www.grenoble-rando-universite.fr
X-WR-CALDESC:évènements pour 
BEGIN:VTIMEZONE
TZID:UTC
BEGIN:STANDARD
TZOFFSETFROM:+0000
TZOFFSETTO:+0000
TZNAME:UTC
DTSTART:20250101T000000
END:STANDARD
END:VTIMEZONE
BEGIN:VEVENT
DTSTART;TZID=UTC:20250412T080000
DTEND;TZID=UTC:20250412T170000
DTSTAMP:20260423T032339
CREATED:20250320T092646Z
LAST-MODIFIED:20250416T192503Z
UID:14461-1744444800-1744477200@www.grenoble-rando-universite.fr
SUMMARY:[COMPLET] Samedi 12/04 : Rando Biodiversité Vercors feat. le RESES
DESCRIPTION:Alpes là et le RESES vous proposent une randonnée thématique biodiversité dans le cadre de la Semaine Etudiante de l’Ecologie et de la Solidarité 🙂 C’est gratuit et ouvert aux étudiant⸱es adhérent⸱es ou non !!! \nDirection le Vercors^^ \nEtienne Bessaguet\, écogarde du Parc Naturel Régional du Vercors sera à nos cotés pour échanger sur son métier\, certaines spécificités du Parc Naturel et quelques espèces végétales et animales présentent sur la randonnée. Nous pourrons également prendre le temps d’observer des traces/indices traduisant la présence de certains êtres vivants. \nVenez partager un moment convivial autour de cette chouette thématique ! \nNiveau : Facile/Intermédiaire \n\nTransport et horaires\n\nRdv à 9h à Vallier Libération sud samedi matin \nRetour vers 17h au même arrêt \n\nÉquipement & Repas\n\n\nMarche : chaussures de randonnée\, ou chaussures de trail ou à défaut baskets (pas de semelle lisse) – bâtons de marche (facultatif) – sac à dos \nVêtements  : vêtements chauds – bonnet – gants – buff/écharpe – veste de pluie et doudoune fine  – une paire de chaussettes – polaire ( 3 couches : 1 t-shirt manche longue\, 1 polaire\, 1 doudoune ou veste chaude) \nPetit matériel : 1\,5L d’eau – chapeau – lunettes de soleil/crème solaire \nRepas : Apportez votre Pique-nique préféré\, apéro/collation offerte ! \n\nInscriptions > 12 places\n\nCette randonnée prévue initialement le 29 mars a été reportée au samedi 12 avril. \nLien d’inscription : https://www.helloasso.com/associations/alpes-la/evenements/29-mars-rando-biodiversite-vercors-reses-2 \nÉvénement gratuit !! \nA très vite
URL:https://www.grenoble-rando-universite.fr/event/samedi-12-04-rando-biodiversite-vercors-feat-le-reses/
CATEGORIES:Rando à pied
ATTACH;FMTTYPE=image/jpeg:https://www.grenoble-rando-universite.fr/wp-content/uploads/2025/03/P1302748-2.jpg
END:VEVENT
BEGIN:VEVENT
DTSTART;TZID=UTC:20250412T090000
DTEND;TZID=UTC:20250412T180000
DTSTAMP:20260423T032339
CREATED:20250407T190158Z
LAST-MODIFIED:20250407T190159Z
UID:14666-1744448400-1744480800@www.grenoble-rando-universite.fr
SUMMARY:Samedi 12Avril : Passerelles Himalayennes du Drac (500m)
DESCRIPTION:Ambiance Bleu Turquoise ce Samedi  🙂 \n2 boucles pour découvrir ces 2 passerelles impressionnantes\, et les eaux turquoise du lac . \nItinéraire sans danger\, mais certaines parties peuvent être glissantes/boueuses ( terrain argileux )\nLes bâtons sont donc indispensables ! ( je peux en fournir quelques uns ) \nNiveau : débutant/intermédiaire – rythme tranquille\nDénivelé : 500m \nEquipement\nIl faut des chaussures qui ne glissent pas.\nPicnic\, 1\,5l d’eau . Bonnet\, polaire\, coupe-vent . Le vent peut être fort et frais au fond des gorges\nCasquette\, crème solaire \nCoût:\n5€ à payer immédiatement sur HelloAsso\n+ 10€ de co-voiturage (un peu moins si les voitures sont bien remplies) à payer en liquide le jour de la sortie . \nRendez vous : 9h  station “le prisme” du Tramway C \nINSCRIPTION : sur le lien HelloAsso avant Jeudi 20h\nhttps://www.helloasso.com/associations/alpes-la/evenements/bernard-rando-34 \nje mettrai sur le site la liste finale des inscrits \nA samedi !
URL:https://www.grenoble-rando-universite.fr/event/samedi-12avril-passerelles-himalayennes/
CATEGORIES:Rando à pied
ATTACH;FMTTYPE=image/jpeg:https://www.grenoble-rando-universite.fr/wp-content/uploads/2023/04/20230416_144127-scaled.jpg
END:VEVENT
END:VCALENDAR