BEGIN:VCALENDAR
VERSION:2.0
PRODID:-// - ECPv5.14.0.4//NONSGML v1.0//EN
CALSCALE:GREGORIAN
METHOD:PUBLISH
X-ORIGINAL-URL:https://www.grenoble-rando-universite.fr
X-WR-CALDESC:évènements pour 
BEGIN:VTIMEZONE
TZID:Europe/Paris
BEGIN:DAYLIGHT
TZOFFSETFROM:+0100
TZOFFSETTO:+0200
TZNAME:CEST
DTSTART:20250330T010000
END:DAYLIGHT
BEGIN:STANDARD
TZOFFSETFROM:+0200
TZOFFSETTO:+0100
TZNAME:CET
DTSTART:20251026T010000
END:STANDARD
END:VTIMEZONE
BEGIN:VEVENT
DTSTART;TZID=Europe/Paris:20250426T093000
DTEND;TZID=Europe/Paris:20250426T190000
DTSTAMP:20260423T032058
CREATED:20250423T160359Z
LAST-MODIFIED:20250425T065252Z
UID:14745-1745659800-1745694000@www.grenoble-rando-universite.fr
SUMMARY:Samedi 26 Avril : Montagne du Conest
DESCRIPTION:Bonjour à toutes et à tous\,\n\n\nVenez vous dégourdir les jambes ce Samedi 26 avril et profiter de la montagne avec cette rando très “chill”\, petite sieste en haut.\nAu programme montagne du Conest\, plateau de la peyrouse face aux lac de Laffrey avec en font Grenoble et La Mure de l’autre côté.\n\n\nDifficultés :\nFacile : 350m de dénivelé\, environ 10 km de rando en petite boucle.\nSi vous voulez faire plus n’hésitez pas à me tenir au courant (650m)\, on démarrera plus bas. \n\nMatériel : Pensez bien à prendre des chaussures de montagne\, vêtements chauds\, crème solaire\, polaire\, pantalon et coupe vent ou imperméable et des bâtons pour vous aider si nécessaire.\n\nTransport : co-voiturage au départ de arrêt tram B : Marie Louise CEA à 9h30\n=> 2 voitures disponibles\, 30 min de voiture\n\nRDV de départ : Départ Grenoble 9h30. Rando à la Journée. Retour estimé à Grenoble vers 19h.\n\nRepas :\n–  Je vous laisse apporter votre pique-nique et environ 1.5L  d’eau suivant vos besoins.\n\nCoûts :\n– participation club aux encadrements : (5€/jour)\n– transport :\n* trajet en covoiturage : partage des frais (4€/personne )\n=> 9€ à amener en billet/monnaie\n\nInscription en commentaires ci-dessous : indique ton prénom\, nom et si tu as une voiture (pour emmener plus de monde).\n\nIl reste 4 places.\n\nN’hésites pas à poser une question en commentaire ci-dessous\n\nA bientôt !\n\nValentin encadrant bénévole
URL:https://www.grenoble-rando-universite.fr/event/samedi-26-avril-montagne-du-conest/
LOCATION:Triève
CATEGORIES:Rando à pied
ATTACH;FMTTYPE=image/jpeg:https://www.grenoble-rando-universite.fr/wp-content/uploads/2025/04/depuis-le-plateau-de-la-peyrouse.jpg
ORGANIZER;CN="Valentin":MAILTO:valentin.borel@gmail.com
END:VEVENT
END:VCALENDAR