BEGIN:VCALENDAR
VERSION:2.0
PRODID:-// - ECPv5.14.0.4//NONSGML v1.0//EN
CALSCALE:GREGORIAN
METHOD:PUBLISH
X-ORIGINAL-URL:https://www.grenoble-rando-universite.fr
X-WR-CALDESC:évènements pour 
BEGIN:VTIMEZONE
TZID:UTC
BEGIN:STANDARD
TZOFFSETFROM:+0000
TZOFFSETTO:+0000
TZNAME:UTC
DTSTART:20250101T000000
END:STANDARD
END:VTIMEZONE
BEGIN:VEVENT
DTSTART;TZID=UTC:20250509T083000
DTEND;TZID=UTC:20250509T193000
DTSTAMP:20260423T015125
CREATED:20250507T085051Z
LAST-MODIFIED:20250507T085330Z
UID:14849-1746779400-1746819000@www.grenoble-rando-universite.fr
SUMMARY:Vendredi 9 mai :  Rando crêtes Nord-Ouest en Vercors
DESCRIPTION:Bonjour à toutes et à tous\,\n\nLes beaux jours ayant décidés d’aller se recoucher\, on vous propose une rando avec pas mal de marche pour se maintenir au chaud.\nDirection le Vercors Ouest\, au départ du parking de Gève (au nord d’Autrans). Au programme une boucle principalement en forêt puis le long des crêtes avec pour étapes le Pas de la Clé (1400m)\, le Bec de l’Orient (1550)\, le Signal de Nave (1600) et enfin le Pas de Pierre Taillée (1600). On fera un petit crochet par la glacière d’Autrans au début.\nLa météo annonce des nuages et peut-être un peu de pluie.\n\nDifficultés :\nDifficulté intermédiaire\, dénivelé 678 m jusqu’au Pas de Pierre Taillée\, 15\,4 km en boucle.\nMatériel : Pensez bien à prendre des vêtements chauds\, bonnet\, écharpes et gants\, polaire\, pantalon et coupe-vent ou imperméable et des bâtons pour vous aider si nécessaire.\nTransport : co-voiturage au départ de l’arrêt tram B : Marie Louise CEA\n=> 1 voiture disponible de base\, 50 min de voiture jusqu’au parking de Gève. Actuellement 3 places disponibles.\nRDV de départ : Départ Grenoble 8h30. Rando à la Journée. Retour estimé à Grenoble vers 19h30.\nRepas :\n–  Je vous laisse apporter votre pique-nique et environ 1.5L à 2.5L d’eau suivant vos besoins.\n\nCoûts :\n– participation club aux encadrements : (5€/jour)\n– transport :\n* trajet en covoiturage : partage des frais (5€/personne )\nTOTAL => 10€ à amener en billet/monnaie\nInscription en commentaires : indique ton prénom\, nom et si tu as une voiture.\n\nActuellement 3 places disponibles.\n\nN’hésites pas à poser une question en commentaire ci-dessous\nA bientôt !\nValentin et Ludovic encadrants bénévoles\n\n\nVue sur le pas de la Clé – E.Charron\n\n\n\nLa Glacière d’Autrans – PNRV
URL:https://www.grenoble-rando-universite.fr/event/vendredi-9-mai-rando-cretes-nord-ouest-en-vercors/
LOCATION:Vercors\, Les Clos\, Le Gua\, 38450\, France
CATEGORIES:Rando à pied
ATTACH;FMTTYPE=image/png:https://www.grenoble-rando-universite.fr/wp-content/uploads/2025/05/image.png
ORGANIZER;CN="Valentin%20et%20Ludovic":MAILTO:valentin.borel@gmail.com
END:VEVENT
END:VCALENDAR