BEGIN:VCALENDAR
VERSION:2.0
PRODID:-// - ECPv5.14.0.4//NONSGML v1.0//EN
CALSCALE:GREGORIAN
METHOD:PUBLISH
X-ORIGINAL-URL:https://www.grenoble-rando-universite.fr
X-WR-CALDESC:évènements pour 
BEGIN:VTIMEZONE
TZID:UTC
BEGIN:STANDARD
TZOFFSETFROM:+0000
TZOFFSETTO:+0000
TZNAME:UTC
DTSTART:20250101T000000
END:STANDARD
END:VTIMEZONE
BEGIN:VEVENT
DTSTART;TZID=UTC:20250531T083000
DTEND;TZID=UTC:20250531T173000
DTSTAMP:20260423T001751
CREATED:20250526T204148Z
LAST-MODIFIED:20250527T213711Z
UID:14897-1748680200-1748712600@www.grenoble-rando-universite.fr
SUMMARY:Samedi 31Mai: Tour du Colombier - Panorama 360°  ( 650m)
DESCRIPTION:Une super boucle qui permet d’admirer les différentes facettes d’un paysage incroyablement varié\, avec en prime quelques passages remarquables mais sans difficulté ( à flanc de falaise\, en traversant quelques petits tunnels) \nAu sommet: panorama à 360° sur les Ecrins\, les sommets mythiques du Devoluy ( Obiou\, Pic de Bure )\, le Coiro\, le Vercors \, sans oublier les eaux envoutantes du Lac du Sautet … \nPetite sieste à l’ombre 🙂 \nNiveau : Débutant/Intermédiaire 2h40 de montée \, 2h de descente \nDénivelé : 650m \nEquipement\nLunettes de soleil\, crême solaire\, coupe vent\, polaire chaude\, picnic \, 1\,5L d’eau ( on montera à 2000m d’altitude )\nil faut des chaussures qui ne glissent pas .\nDes bâtons peuvent être utiles ( je peux en apporter quelques uns ) \nCoût: 5€ à payer immédiatement sur HelloAsso\n+ co-voiturage ( 10€)   : prenez du liquide ! \nRendez vous : 8h30 Station “Le Prisme” du tramway ligne C \nInscription : sur le lien HelloAsso avant jeudi 21h\nhttps://www.helloasso.com/associations/alpes-la/evenements/bernard-rando-37 \n( pas de mail de confirmation\, je mettrai sur le site la liste finale des inscrits ) \nRemarque pour les conducteurs : on ira au col de Parquetout en passant par Saint Michel en Beaumont ( la route est bien meilleure )
URL:https://www.grenoble-rando-universite.fr/event/samedi-31mai-tour-du-colombier/
CATEGORIES:Rando à pied
ATTACH;FMTTYPE=image/jpeg:https://www.grenoble-rando-universite.fr/wp-content/uploads/2025/05/colombier2.jpg
END:VEVENT
END:VCALENDAR