BEGIN:VCALENDAR
VERSION:2.0
PRODID:-// - ECPv5.14.0.4//NONSGML v1.0//EN
CALSCALE:GREGORIAN
METHOD:PUBLISH
X-ORIGINAL-URL:https://www.grenoble-rando-universite.fr
X-WR-CALDESC:évènements pour 
BEGIN:VTIMEZONE
TZID:UTC
BEGIN:STANDARD
TZOFFSETFROM:+0000
TZOFFSETTO:+0000
TZNAME:UTC
DTSTART:20250101T000000
END:STANDARD
END:VTIMEZONE
BEGIN:VEVENT
DTSTART;TZID=UTC:20250621T080000
DTEND;TZID=UTC:20250621T190000
DTSTAMP:20260423T001636
CREATED:20250616T213721Z
LAST-MODIFIED:20250618T051938Z
UID:15009-1750492800-1750532400@www.grenoble-rando-universite.fr
SUMMARY:Samedi 21juin: Orgues de Valsenestre (850m) + Baignade
DESCRIPTION:Imagine…\n– Une fantasmagorie géologique : comme une armée de cristaux géants qui dévalent de la montagne\n– Au retour la baignade dans un lac aménagé\, avec une belle pelouse ombragée + l’apéro bien mérité \nNiveau: Intermédiaire : sentier globalement en pente douce\, et relativement ombragé \nDénivelé: 850m \nEquipement\nCasquette/Chapeau\, Lunettes de soleil\, crême solaire\, coupe vent\, polaire\,picnic \, 2L d’eau\nil faut des chaussures qui ne glissent pas \nDes bâtons peuvent être utiles ( je peux en apporter quelques uns ) \nPour la partie baignade: un sac à provision séparé\, pour le maillot/serviette/de quoi grignoter pour l’apéro   qu’on laissera dans la voiture le temps de la rando \nRendez vous : 8h00 Station “Le Prisme” du tramway ligne C\nCoût : 5€ à payer le jour de la sortie + covoiturage ( entre 8€ et 10€ ) Prenez du liquide \nInscription : sur le lien HelloAsso avant jeudi 21h\nhttps://www.helloasso.com/associations/alpes-la/evenements/bernard-rando-39 \n( pas de mail de confirmation\, je mettrai sur le site la liste finale des inscrits ) \n \n \nla récompense de fin de journée …
URL:https://www.grenoble-rando-universite.fr/event/samedi-21juin-orgues-de-valsenestre-850m-baignade/
CATEGORIES:Rando à pied
ATTACH;FMTTYPE=image/jpeg:https://www.grenoble-rando-universite.fr/wp-content/uploads/2022/06/20220616_142537-scaled.jpg
END:VEVENT
END:VCALENDAR