BEGIN:VCALENDAR
VERSION:2.0
PRODID:-// - ECPv5.14.0.4//NONSGML v1.0//EN
CALSCALE:GREGORIAN
METHOD:PUBLISH
X-ORIGINAL-URL:https://www.grenoble-rando-universite.fr
X-WR-CALDESC:évènements pour 
BEGIN:VTIMEZONE
TZID:UTC
BEGIN:STANDARD
TZOFFSETFROM:+0000
TZOFFSETTO:+0000
TZNAME:UTC
DTSTART:20250101T000000
END:STANDARD
END:VTIMEZONE
BEGIN:VEVENT
DTSTART;TZID=UTC:20250803T083000
DTEND;TZID=UTC:20250803T193000
DTSTAMP:20260422T210310
CREATED:20250729T073721Z
LAST-MODIFIED:20250730T152809Z
UID:15101-1754209800-1754249400@www.grenoble-rando-universite.fr
SUMMARY:Dimanche 3 Aout : Rando Vallon de l'Abeou - Dévoluy
DESCRIPTION:Bonjour à toutes et à tous\,\nLes beaux jours aidant\, je vous propose une rando à la journée un peu plus loin de chez nous que d’habitude. Direction le Sud du Dévoluy pour découvrir un vallon reculé\, celui de l’Abeou !\n\nDifficultés :\nDifficulté intermédiaire\, dénivelé 873 m jusqu’au Col de Corps (2105 m)\, environ 12 km en aller-retour. Nous serons hors sentier sur la moitié de la randonnée vu qu’il n’en existe pas à partir du chalet de Chazal.\nDépart de la randonnée près du hameau de Cluse (05250 Dévoluy\, à 1235 m d’altitude).\n\nMatériel : Je préconise :\n\n\nPantalon (on sera hors sentier la moitié de la rando)\n\n\nCoupe-vent / imperméable\n\n\nBâtons pour vous aider (ce sera raide en approchant du col).\n\n\nUn vêtement chaud type polaire en cas de fraicheur pendant les pauses.\n\n\n\nMétéo : Temps sec annoncé actuellement\, je vérifierai la meteo jusqu’à vendredi soir au plus tard et je préciserai la veille du départ\, ce que l’on fera. En cas de météo trop défavorable\, je vous proposerai dans la mesure du possible une randonnée dans une zone sans risque.\n\nTransport :\n co-voiturage : \n=> 1 voiture disponible de base (3 places disponibles)\, 1h40 min de voiture jusqu’au parking près de Cluse.\n\nRDV de départ : MC2 : Grenoble\, 7 Rue Paul Claudel\, 38100 Grenoble\nDépart à 8h30. Rando à la Journée. Retour estimé à Grenoble vers 19h.\n\nRepas :\n–  A vous de prévoir votre pique-nique et environ 1.5L à 2.5L d’eau suivant vos besoins.\n \n\nCoûts :\n– participation club aux encadrements : (5€/jour)\n– transport :\n* trajet en covoiturage : partage des frais (5€/personne )\nTOTAL => 10€ à amener en billet/monnaie\nInscription en commentaires : indique ton prénom\, nom \nN’hésites pas à poser une question en commentaire ci-dessous\nA bientôt !\nLudovic encadrant bénévole\n\n\n\n\n\nLa géologie tourmentée du vallon de l’Abéou a tracé de curieuses arabesques sous le col de Corps au lieu-dit Leyvay (photo P. Adam). Le nom savant serait “slumps” (glissements synsédimentaires).\n\n\nLe vallon de l’Abéou vu de Voran. À gauche\, la Tête et le Roc de Garnesier. Au centre\, le petit sommet où se trouve une dalle aux ammonites. (Photo P. Sombardier).\n\n\nDans le torrent des Plates (Photo P. Sombardier).\n \nLien vers le topo original : https://www.pascal-sombardier.com/2022/02/l-abeou-et-le-leyvay\n\n\n\n\n\n\n\n\n\nL’Abéou et le Leyvay – pascal-sombardier.com\nRien n’était paru sur ce secteur avant que nous y venions plusieurs fois au début des années 2010\, découvrant avec plaisir les curiosités du torrent des Plates\, la dalle aux ammonites\, les arabesques du Leyvay et surtout le petit canyon homonyme où il n’y avait aucune trace de passage. La première fois\, ne nous attendant pas à ces quelques rappels\, j’avais équipé sommairement avec …\nwww.pascal-sombardier.com
URL:https://www.grenoble-rando-universite.fr/event/samedi-2-aout-rando-vallon-de-labeou-devoluy/
LOCATION:Devoluy\, Agnières-en-Dévoluy\, France
CATEGORIES:Rando à pied,Rando-hors santier
ATTACH;FMTTYPE=image/png:https://www.grenoble-rando-universite.fr/wp-content/uploads/2025/07/image-1.png
ORGANIZER;CN="Ludovic":MAILTO:Ludovic_Delaunay@hotmail.com
END:VEVENT
END:VCALENDAR