BEGIN:VCALENDAR
VERSION:2.0
PRODID:-// - ECPv5.14.0.4//NONSGML v1.0//EN
CALSCALE:GREGORIAN
METHOD:PUBLISH
X-ORIGINAL-URL:https://www.grenoble-rando-universite.fr
X-WR-CALDESC:évènements pour 
BEGIN:VTIMEZONE
TZID:UTC
BEGIN:STANDARD
TZOFFSETFROM:+0000
TZOFFSETTO:+0000
TZNAME:UTC
DTSTART:20250101T000000
END:STANDARD
END:VTIMEZONE
BEGIN:VEVENT
DTSTART;TZID=UTC:20250920T080000
DTEND;TZID=UTC:20250921T170000
DTSTAMP:20260422T194439
CREATED:20250729T124422Z
LAST-MODIFIED:20250902T154209Z
UID:15109-1758355200-1758474000@www.grenoble-rando-universite.fr
SUMMARY:J'Peux Pas J'ai Rando 2025
DESCRIPTION:L’événement J’Peux Pas J’ai Rando revient pour une 7ème édition les samedi 20 et dimanche 21 septembre 2025 ! Ouvert à tous les étudiant.es ! (pas besoin d’être adhérent du club) La recette reste la même : une découverte de la montagne pour les étudiant·es avec des randonnées accessibles sans voiture proposées par l’association Alpes Là et son Club Grenoble Rando Université. Des la rando\, des paysages\, des intervenant·es pour découvrir et le patrimoine montagnard du département de l’Isère et comprendre comment le préserver. Que demander de plus ?     \n\n\n\n ! Infos pratiques et programme ici ! \nInscriptions à partir du 6 septembre 2025.  \n Réservez votre weekend ! 🏔️🌞
URL:https://www.grenoble-rando-universite.fr/event/jpeux-pas-jai-rando-2025/
CATEGORIES:Rando à pied
ATTACH;FMTTYPE=image/jpeg:https://www.grenoble-rando-universite.fr/wp-content/uploads/2025/07/Visuel-JPPJR-2025.jpg
END:VEVENT
END:VCALENDAR